BEGIN:VCALENDAR
VERSION:2.0
PRODID:-//イルチブレインヨガ大宮スタジオ - ECPv6.15.20//NONSGML v1.0//EN
CALSCALE:GREGORIAN
METHOD:PUBLISH
X-ORIGINAL-URL:https://ilchibrainyoga-omiya.com
X-WR-CALDESC:イルチブレインヨガ大宮スタジオ のイベント
REFRESH-INTERVAL;VALUE=DURATION:PT1H
X-Robots-Tag:noindex
X-PUBLISHED-TTL:PT1H
BEGIN:VTIMEZONE
TZID:Asia/Tokyo
BEGIN:STANDARD
TZOFFSETFROM:+0900
TZOFFSETTO:+0900
TZNAME:JST
DTSTART:20200101T000000
END:STANDARD
END:VTIMEZONE
BEGIN:VEVENT
DTSTART;TZID=Asia/Tokyo:20210502T100000
DTEND;TZID=Asia/Tokyo:20210502T120000
DTSTAMP:20260422T110854
CREATED:20210429T122733Z
LAST-MODIFIED:20210429T122733Z
UID:1739-1619949600-1619956800@ilchibrainyoga-omiya.com
SUMMARY:【大宮】腸活ヨガ体験会
DESCRIPTION:話題の「腸活」ヨガはじめませんか？ \n腸を整えていつまでも元気で \n若々しくいたいあなたへ♪ \n肩や腰の筋肉がこりやすい、イライラの原因は、腸にあり！どなたにもできる簡単な体操や呼吸法、腸をほぐすことで、効率よく脳を活性化できます。体も心も脳もスッキリしましょう！ \n会場名：イルチブレインヨガ大宮スタジオ\n会場住所：さいたま市大宮区大門町2-109大越ビル５階\n参加費：1\,000円\n問合せ電話：048-644-5400\nトレーナー：高山\nその他：持ち物は動きやすい服装、タオル、飲み物をご持参ください。 \n\nオンラインでも体験できます！（zoom使用）\n申し込み、お支払いは\nホームページからお願い致します。\nhttps://online.ilchibrainyoga.com/studio/saitama/omiya/
URL:https://ilchibrainyoga-omiya.com/event/0502/
LOCATION:イルチブレインヨガ大宮スタジオ\, 埼玉県さいたま市大宮区大門町2-109 大越ビル 5階\, 日本
ATTACH;FMTTYPE=image/jpeg:https://ilchibrainyoga-omiya.com/wp-content/uploads/2020/11/21b4eb537cf579ef37821b1653e61d20_original.jpg
END:VEVENT
BEGIN:VEVENT
DTSTART;TZID=Asia/Tokyo:20210506T100000
DTEND;TZID=Asia/Tokyo:20210506T120000
DTSTAMP:20260422T110854
CREATED:20210429T122847Z
LAST-MODIFIED:20210429T122847Z
UID:1741-1620295200-1620302400@ilchibrainyoga-omiya.com
SUMMARY:【大宮】腸活ヨガ体験会
DESCRIPTION:話題の「腸活」ヨガはじめませんか？ \n腸を整えていつまでも元気で \n若々しくいたいあなたへ♪ \n肩や腰の筋肉がこりやすい、イライラの原因は、腸にあり！どなたにもできる簡単な体操や呼吸法、腸をほぐすことで、効率よく脳を活性化できます。体も心も脳もスッキリしましょう！ \n会場名：イルチブレインヨガ大宮スタジオ\n会場住所：さいたま市大宮区大門町2-109大越ビル５階\n参加費：1\,000円\n問合せ電話：048-644-5400\nトレーナー：高山\nその他：持ち物は動きやすい服装、タオル、飲み物をご持参ください。 \n\nオンラインでも体験できます！（zoom使用）\n申し込み、お支払いは\nホームページからお願い致します。\nhttps://online.ilchibrainyoga.com/studio/saitama/omiya/
URL:https://ilchibrainyoga-omiya.com/event/0506/
LOCATION:イルチブレインヨガ大宮スタジオ\, 埼玉県さいたま市大宮区大門町2-109 大越ビル 5階\, 日本
ATTACH;FMTTYPE=image/jpeg:https://ilchibrainyoga-omiya.com/wp-content/uploads/2020/11/21b4eb537cf579ef37821b1653e61d20_original.jpg
END:VEVENT
BEGIN:VEVENT
DTSTART;TZID=Asia/Tokyo:20210507T190000
DTEND;TZID=Asia/Tokyo:20210507T210000
DTSTAMP:20260422T110854
CREATED:20210429T123118Z
LAST-MODIFIED:20210429T123118Z
UID:1743-1620414000-1620421200@ilchibrainyoga-omiya.com
SUMMARY:【大宮】腸活ヨガ体験会
DESCRIPTION:話題の「腸活」ヨガはじめませんか？ \n腸を整えていつまでも元気で \n若々しくいたいあなたへ♪ \n肩や腰の筋肉がこりやすい、イライラの原因は、腸にあり！どなたにもできる簡単な体操や呼吸法、腸をほぐすことで、効率よく脳を活性化できます。体も心も脳もスッキリしましょう！ \n会場名：イルチブレインヨガ大宮スタジオ\n会場住所：さいたま市大宮区大門町2-109大越ビル５階\n参加費：1\,000円\n問合せ電話：048-644-5400\nトレーナー：高山\nその他：持ち物は動きやすい服装、タオル、飲み物をご持参ください。 \n\nオンラインでも体験できます！（zoom使用）\n申し込み、お支払いは\nホームページからお願い致します。\nhttps://online.ilchibrainyoga.com/studio/saitama/omiya/
URL:https://ilchibrainyoga-omiya.com/event/0507/
LOCATION:イルチブレインヨガ大宮スタジオ\, 埼玉県さいたま市大宮区大門町2-109 大越ビル 5階\, 日本
ATTACH;FMTTYPE=image/jpeg:https://ilchibrainyoga-omiya.com/wp-content/uploads/2020/11/21b4eb537cf579ef37821b1653e61d20_original.jpg
END:VEVENT
BEGIN:VEVENT
DTSTART;TZID=Asia/Tokyo:20210511T100000
DTEND;TZID=Asia/Tokyo:20210511T120000
DTSTAMP:20260422T110854
CREATED:20210429T123753Z
LAST-MODIFIED:20210429T123753Z
UID:1745-1620727200-1620734400@ilchibrainyoga-omiya.com
SUMMARY:【大宮】腸活ヨガ体験会
DESCRIPTION:話題の「腸活」ヨガはじめませんか？ \n腸を整えていつまでも元気で \n若々しくいたいあなたへ♪ \n肩や腰の筋肉がこりやすい、イライラの原因は、腸にあり！どなたにもできる簡単な体操や呼吸法、腸をほぐすことで、効率よく脳を活性化できます。体も心も脳もスッキリしましょう！ \n会場名：イルチブレインヨガ大宮スタジオ\n会場住所：さいたま市大宮区大門町2-109大越ビル５階\n参加費：1\,000円\n問合せ電話：048-644-5400\nトレーナー：高山\nその他：持ち物は動きやすい服装、タオル、飲み物をご持参ください。 \n\nオンラインでも体験できます！（zoom使用）\n申し込み、お支払いは\nホームページからお願い致します。\nhttps://online.ilchibrainyoga.com/studio/saitama/omiya/
URL:https://ilchibrainyoga-omiya.com/event/0511/
LOCATION:イルチブレインヨガ大宮スタジオ\, 埼玉県さいたま市大宮区大門町2-109 大越ビル 5階\, 日本
ATTACH;FMTTYPE=image/jpeg:https://ilchibrainyoga-omiya.com/wp-content/uploads/2020/11/21b4eb537cf579ef37821b1653e61d20_original.jpg
END:VEVENT
BEGIN:VEVENT
DTSTART;TZID=Asia/Tokyo:20210513T140000
DTEND;TZID=Asia/Tokyo:20210513T160000
DTSTAMP:20260422T110854
CREATED:20210429T123851Z
LAST-MODIFIED:20210429T123851Z
UID:1746-1620914400-1620921600@ilchibrainyoga-omiya.com
SUMMARY:【大宮】腸活ヨガ体験会
DESCRIPTION:話題の「腸活」ヨガはじめませんか？ \n腸を整えていつまでも元気で \n若々しくいたいあなたへ♪ \n肩や腰の筋肉がこりやすい、イライラの原因は、腸にあり！どなたにもできる簡単な体操や呼吸法、腸をほぐすことで、効率よく脳を活性化できます。体も心も脳もスッキリしましょう！ \n会場名：イルチブレインヨガ大宮スタジオ\n会場住所：さいたま市大宮区大門町2-109大越ビル５階\n参加費：1\,000円\n問合せ電話：048-644-5400\nトレーナー：高山\nその他：持ち物は動きやすい服装、タオル、飲み物をご持参ください。 \n\nオンラインでも体験できます！（zoom使用）\n申し込み、お支払いは\nホームページからお願い致します。\nhttps://online.ilchibrainyoga.com/studio/saitama/omiya/
URL:https://ilchibrainyoga-omiya.com/event/0513/
LOCATION:イルチブレインヨガ大宮スタジオ\, 埼玉県さいたま市大宮区大門町2-109 大越ビル 5階\, 日本
ATTACH;FMTTYPE=image/jpeg:https://ilchibrainyoga-omiya.com/wp-content/uploads/2020/11/21b4eb537cf579ef37821b1653e61d20_original.jpg
END:VEVENT
BEGIN:VEVENT
DTSTART;TZID=Asia/Tokyo:20210515T100000
DTEND;TZID=Asia/Tokyo:20210515T120000
DTSTAMP:20260422T110854
CREATED:20210429T124003Z
LAST-MODIFIED:20210429T124003Z
UID:1749-1621072800-1621080000@ilchibrainyoga-omiya.com
SUMMARY:【大宮】腸活ヨガ体験会
DESCRIPTION:話題の「腸活」ヨガはじめませんか？ \n腸を整えていつまでも元気で \n若々しくいたいあなたへ♪ \n肩や腰の筋肉がこりやすい、イライラの原因は、腸にあり！どなたにもできる簡単な体操や呼吸法、腸をほぐすことで、効率よく脳を活性化できます。体も心も脳もスッキリしましょう！ \n会場名：イルチブレインヨガ大宮スタジオ\n会場住所：さいたま市大宮区大門町2-109大越ビル５階\n参加費：1\,000円\n問合せ電話：048-644-5400\nトレーナー：高山\nその他：持ち物は動きやすい服装、タオル、飲み物をご持参ください。 \n\nオンラインでも体験できます！（zoom使用）\n申し込み、お支払いは\nホームページからお願い致します。\nhttps://online.ilchibrainyoga.com/studio/saitama/omiya/
URL:https://ilchibrainyoga-omiya.com/event/0515/
LOCATION:イルチブレインヨガ大宮スタジオ\, 埼玉県さいたま市大宮区大門町2-109 大越ビル 5階\, 日本
ATTACH;FMTTYPE=image/jpeg:https://ilchibrainyoga-omiya.com/wp-content/uploads/2020/11/21b4eb537cf579ef37821b1653e61d20_original.jpg
END:VEVENT
BEGIN:VEVENT
DTSTART;TZID=Asia/Tokyo:20210529T160000
DTEND;TZID=Asia/Tokyo:20210529T180000
DTSTAMP:20260422T110854
CREATED:20210527T142901Z
LAST-MODIFIED:20210527T142901Z
UID:1826-1622304000-1622311200@ilchibrainyoga-omiya.com
SUMMARY:【大宮】代謝アップ！腸活性化ヨガ体験会
DESCRIPTION:話題の「腸活」ヨガはじめませんか？ \n腸を整えていつまでも元気で \n若々しくいたいあなたへ♪ \n肩や腰の筋肉がこりやすい、イライラの原因は、腸にあり！どなたにもできる簡単な体操や呼吸法、腸をほぐすことで、効率よく脳を活性化できます。体も心も脳もスッキリしましょう！ \n会場名：イルチブレインヨガ大宮スタジオ\n会場住所：さいたま市大宮区大門町2-109大越ビル５階\n参加費：1\,000円\n問合せ電話：048-644-5400\nトレーナー：高山\nその他：持ち物は動きやすい服装、タオル、飲み物をご持参ください。 \n\nオンラインでも体験できます！（zoom使用）\n申し込み、お支払いは\nホームページからお願い致します。\nhttps://online.ilchibrainyoga.com/studio/saitama/omiya/
URL:https://ilchibrainyoga-omiya.com/event/0529/
LOCATION:イルチブレインヨガ大宮スタジオ\, 埼玉県さいたま市大宮区大門町2-109 大越ビル 5階\, 日本
ATTACH;FMTTYPE=image/jpeg:https://ilchibrainyoga-omiya.com/wp-content/uploads/2020/11/21b4eb537cf579ef37821b1653e61d20_original.jpg
END:VEVENT
BEGIN:VEVENT
DTSTART;TZID=Asia/Tokyo:20210530T140000
DTEND;TZID=Asia/Tokyo:20210530T160000
DTSTAMP:20260422T110854
CREATED:20210527T142952Z
LAST-MODIFIED:20210527T142952Z
UID:1828-1622383200-1622390400@ilchibrainyoga-omiya.com
SUMMARY:【大宮】代謝アップ！腸活性化ヨガ体験会
DESCRIPTION:話題の「腸活」ヨガはじめませんか？ \n腸を整えていつまでも元気で \n若々しくいたいあなたへ♪ \n肩や腰の筋肉がこりやすい、イライラの原因は、腸にあり！どなたにもできる簡単な体操や呼吸法、腸をほぐすことで、効率よく脳を活性化できます。体も心も脳もスッキリしましょう！ \n会場名：イルチブレインヨガ大宮スタジオ\n会場住所：さいたま市大宮区大門町2-109大越ビル５階\n参加費：1\,000円\n問合せ電話：048-644-5400\nトレーナー：高山\nその他：持ち物は動きやすい服装、タオル、飲み物をご持参ください。 \n\nオンラインでも体験できます！（zoom使用）\n申し込み、お支払いは\nホームページからお願い致します。\nhttps://online.ilchibrainyoga.com/studio/saitama/omiya/
URL:https://ilchibrainyoga-omiya.com/event/0530/
LOCATION:イルチブレインヨガ大宮スタジオ\, 埼玉県さいたま市大宮区大門町2-109 大越ビル 5階\, 日本
ATTACH;FMTTYPE=image/jpeg:https://ilchibrainyoga-omiya.com/wp-content/uploads/2020/11/21b4eb537cf579ef37821b1653e61d20_original.jpg
END:VEVENT
END:VCALENDAR