BEGIN:VCALENDAR
VERSION:2.0
PRODID:-//イルチブレインヨガ大宮スタジオ - ECPv6.15.20//NONSGML v1.0//EN
CALSCALE:GREGORIAN
METHOD:PUBLISH
X-WR-CALNAME:イルチブレインヨガ大宮スタジオ
X-ORIGINAL-URL:https://ilchibrainyoga-omiya.com
X-WR-CALDESC:イルチブレインヨガ大宮スタジオ のイベント
REFRESH-INTERVAL;VALUE=DURATION:PT1H
X-Robots-Tag:noindex
X-PUBLISHED-TTL:PT1H
BEGIN:VTIMEZONE
TZID:Asia/Tokyo
BEGIN:STANDARD
TZOFFSETFROM:+0900
TZOFFSETTO:+0900
TZNAME:JST
DTSTART:20190101T000000
END:STANDARD
END:VTIMEZONE
BEGIN:VEVENT
DTSTART;TZID=Asia/Tokyo:20201001T103000
DTEND;TZID=Asia/Tokyo:20201015T213000
DTSTAMP:20260422T130000
CREATED:20200930T065144Z
LAST-MODIFIED:20200930T065144Z
UID:1067-1601548200-1602797400@ilchibrainyoga-omiya.com
SUMMARY:【大宮】元気な腸が肩こりを防ぐ！腸すっきり体操体験会
DESCRIPTION:気温が下がってくると血管が収縮して腸の血行も悪くなり、腸が硬くなってきます。\nまた、座りっぱなしや立ちっぱなしの仕事をしたりして、長時間にわたり肩甲骨や上腕を動かさないという人は要注意。肩まわりの筋肉に老廃物が蓄積されやすくなります。\n「腸スッキリ体操」体験会では、腸運動を中心に体をほぐす体操を行います。腸を刺激し、ほぐすことで、毒素がたまりにくい体質への転換を促します。\n開催日：10月15日（木）まで\n時間：14：00～ 19：00～\n会場名：イルチブレインヨガ大宮スタジオ\n会場住所：さいたま市大宮区大門町\n2-109大越ビル５階\n参加費：1\,000円\n問合せ電話：048-644-5400\nトレーナー：高山\nその他：持ち物は動きやすい服装、\nタオル、飲み物をご準備ください。\nオンラインは、zoomで行います。\n申し込み、お支払いは\nホームページからお願い致します。\nhttps://online.ilchibrainyoga.com/studio/saitama/omiya/
URL:https://ilchibrainyoga-omiya.com/event/202010/
LOCATION:イルチブレインヨガ大宮スタジオ\, 埼玉県さいたま市大宮区大門町2-109 大越ビル 5階\, 日本
ATTACH;FMTTYPE=image/jpeg:https://ilchibrainyoga-omiya.com/wp-content/uploads/2020/09/120300467_165849295192722_4527688486538216162_o.jpg
END:VEVENT
BEGIN:VEVENT
DTSTART;TZID=Asia/Tokyo:20201016T103000
DTEND;TZID=Asia/Tokyo:20201031T213000
DTSTAMP:20260422T130000
CREATED:20201012T134527Z
LAST-MODIFIED:20201012T135143Z
UID:1111-1602844200-1604179800@ilchibrainyoga-omiya.com
SUMMARY:【大宮】腸活ヨガ体験会
DESCRIPTION:話題の「腸活」ヨガはじめませんか？ \n腸を整えていつまでも元気で若々しくいたいあなたへ♪ \n肩や腰の筋肉がこりやすい、イライラの原因は、腸にあり！ \nどなたにもできる簡単な体操や呼吸法、腸をほぐすことで、効率よく脳を活性化できます。 \n体も心も脳もスッキリしましょう！ \n\n開催日　時間：\n\n10/18（日）21（水）27（火）31（土）10：00～12：00 \n10/22（木）25（日）28（水）30（金）14：00～16：00 \n10/16（金）20（火）23（金）29（木）19：00～21：00 \n会場名：イルチブレインヨガ大宮スタジオ\n会場住所：さいたま市大宮区大門町\n2-109大越ビル５階\n参加費：1\,000円\n問合せ電話：048-644-5400\nトレーナー：高山\nその他：持ち物は動きやすい服装、\nタオル、飲み物をご準備ください。 \n\nオンラインは、zoomで行います。\n申し込み、お支払いは\nホームページからお願い致します。\nhttps://online.ilchibrainyoga.com/studio/saitama/omiya/
URL:https://ilchibrainyoga-omiya.com/event/1015/
LOCATION:イルチブレインヨガ大宮スタジオ\, 埼玉県さいたま市大宮区大門町2-109 大越ビル 5階\, 日本
ATTACH;FMTTYPE=image/png:https://ilchibrainyoga-omiya.com/wp-content/uploads/2020/10/cho.png
END:VEVENT
END:VCALENDAR