BEGIN:VCALENDAR
VERSION:2.0
PRODID:-//イルチブレインヨガ大宮スタジオ - ECPv6.15.20//NONSGML v1.0//EN
CALSCALE:GREGORIAN
METHOD:PUBLISH
X-ORIGINAL-URL:https://ilchibrainyoga-omiya.com
X-WR-CALDESC:イルチブレインヨガ大宮スタジオ のイベント
REFRESH-INTERVAL;VALUE=DURATION:PT1H
X-Robots-Tag:noindex
X-PUBLISHED-TTL:PT1H
BEGIN:VTIMEZONE
TZID:Asia/Tokyo
BEGIN:STANDARD
TZOFFSETFROM:+0900
TZOFFSETTO:+0900
TZNAME:JST
DTSTART:20200101T000000
END:STANDARD
END:VTIMEZONE
BEGIN:VEVENT
DTSTART;TZID=Asia/Tokyo:20210601T100000
DTEND;TZID=Asia/Tokyo:20210601T120000
DTSTAMP:20260422T144135
CREATED:20210530T114838Z
LAST-MODIFIED:20210530T114838Z
UID:1872-1622541600-1622548800@ilchibrainyoga-omiya.com
SUMMARY:【大宮】代謝アップ！腸活性化ヨガ体験会
DESCRIPTION:話題の「腸活」ヨガはじめませんか？ \n腸を整えていつまでも元気で \n若々しくいたいあなたへ♪ \n肩や腰の筋肉がこりやすい、イライラの原因は、腸にあり！どなたにもできる簡単な体操や呼吸法、腸をほぐすことで、効率よく脳を活性化できます。体も心も脳もスッキリしましょう！ \n会場名：イルチブレインヨガ大宮スタジオ\n会場住所：さいたま市大宮区大門町2-109大越ビル５階\n参加費：1\,000円\n問合せ電話：048-644-5400\nトレーナー：高山\nその他：持ち物は動きやすい服装、タオル、飲み物をご持参ください。 \n\nオンラインでも体験できます！（zoom使用）\n申し込み、お支払いは\nホームページからお願い致します。\nhttps://online.ilchibrainyoga.com/studio/saitama/omiya/
URL:https://ilchibrainyoga-omiya.com/event/0601/
LOCATION:イルチブレインヨガ大宮スタジオ\, 埼玉県さいたま市大宮区大門町2-109 大越ビル 5階\, 日本
ATTACH;FMTTYPE=image/jpeg:https://ilchibrainyoga-omiya.com/wp-content/uploads/2020/08/maxresdefault-21.jpg
END:VEVENT
BEGIN:VEVENT
DTSTART;TZID=Asia/Tokyo:20210602T190000
DTEND;TZID=Asia/Tokyo:20210602T210000
DTSTAMP:20260422T144135
CREATED:20210530T114929Z
LAST-MODIFIED:20210530T114929Z
UID:1874-1622660400-1622667600@ilchibrainyoga-omiya.com
SUMMARY:【大宮】代謝アップ！腸活性化ヨガ体験会
DESCRIPTION:話題の「腸活」ヨガはじめませんか？ \n腸を整えていつまでも元気で \n若々しくいたいあなたへ♪ \n肩や腰の筋肉がこりやすい、イライラの原因は、腸にあり！どなたにもできる簡単な体操や呼吸法、腸をほぐすことで、効率よく脳を活性化できます。体も心も脳もスッキリしましょう！ \n会場名：イルチブレインヨガ大宮スタジオ\n会場住所：さいたま市大宮区大門町2-109大越ビル５階\n参加費：1\,000円\n問合せ電話：048-644-5400\nトレーナー：高山\nその他：持ち物は動きやすい服装、タオル、飲み物をご持参ください。 \n\nオンラインでも体験できます！（zoom使用）\n申し込み、お支払いは\nホームページからお願い致します。\nhttps://online.ilchibrainyoga.com/studio/saitama/omiya/
URL:https://ilchibrainyoga-omiya.com/event/0602/
LOCATION:イルチブレインヨガ大宮スタジオ\, 埼玉県さいたま市大宮区大門町2-109 大越ビル 5階\, 日本
ATTACH;FMTTYPE=image/jpeg:https://ilchibrainyoga-omiya.com/wp-content/uploads/2020/08/maxresdefault-21.jpg
END:VEVENT
BEGIN:VEVENT
DTSTART;TZID=Asia/Tokyo:20210608T100000
DTEND;TZID=Asia/Tokyo:20210608T120000
DTSTAMP:20260422T144135
CREATED:20210530T115034Z
LAST-MODIFIED:20210530T115411Z
UID:1876-1623146400-1623153600@ilchibrainyoga-omiya.com
SUMMARY:【大宮】代謝アップ！腸活性化ヨガ体験会
DESCRIPTION:話題の「腸活」ヨガはじめませんか？ \n腸を整えていつまでも元気で \n若々しくいたいあなたへ♪ \n肩や腰の筋肉がこりやすい、イライラの原因は、腸にあり！どなたにもできる簡単な体操や呼吸法、腸をほぐすことで、効率よく脳を活性化できます。体も心も脳もスッキリしましょう！ \n会場名：イルチブレインヨガ大宮スタジオ\n会場住所：さいたま市大宮区大門町2-109大越ビル５階\n参加費：1\,000円\n問合せ電話：048-644-5400\nトレーナー：高山\nその他：持ち物は動きやすい服装、タオル、飲み物をご持参ください。 \n\nオンラインでも体験できます！（zoom使用）\n申し込み、お支払いは\nホームページからお願い致します。\nhttps://online.ilchibrainyoga.com/studio/saitama/omiya/
URL:https://ilchibrainyoga-omiya.com/event/0608/
LOCATION:イルチブレインヨガ大宮スタジオ\, 埼玉県さいたま市大宮区大門町2-109 大越ビル 5階\, 日本
ATTACH;FMTTYPE=image/jpeg:https://ilchibrainyoga-omiya.com/wp-content/uploads/2020/08/maxresdefault-21.jpg
END:VEVENT
BEGIN:VEVENT
DTSTART;TZID=Asia/Tokyo:20210610T140000
DTEND;TZID=Asia/Tokyo:20210610T160000
DTSTAMP:20260422T144135
CREATED:20210530T115501Z
LAST-MODIFIED:20210530T115501Z
UID:1878-1623333600-1623340800@ilchibrainyoga-omiya.com
SUMMARY:【大宮】代謝アップ！腸活性化ヨガ体験会
DESCRIPTION:話題の「腸活」ヨガはじめませんか？ \n腸を整えていつまでも元気で \n若々しくいたいあなたへ♪ \n肩や腰の筋肉がこりやすい、イライラの原因は、腸にあり！どなたにもできる簡単な体操や呼吸法、腸をほぐすことで、効率よく脳を活性化できます。体も心も脳もスッキリしましょう！ \n会場名：イルチブレインヨガ大宮スタジオ\n会場住所：さいたま市大宮区大門町2-109大越ビル５階\n参加費：1\,000円\n問合せ電話：048-644-5400\nトレーナー：高山\nその他：持ち物は動きやすい服装、タオル、飲み物をご持参ください。 \n\nオンラインでも体験できます！（zoom使用）\n申し込み、お支払いは\nホームページからお願い致します。\nhttps://online.ilchibrainyoga.com/studio/saitama/omiya/
URL:https://ilchibrainyoga-omiya.com/event/0610/
LOCATION:イルチブレインヨガ大宮スタジオ\, 埼玉県さいたま市大宮区大門町2-109 大越ビル 5階\, 日本
ATTACH;FMTTYPE=image/jpeg:https://ilchibrainyoga-omiya.com/wp-content/uploads/2020/08/maxresdefault-21.jpg
END:VEVENT
BEGIN:VEVENT
DTSTART;TZID=Asia/Tokyo:20210612T100000
DTEND;TZID=Asia/Tokyo:20210612T120000
DTSTAMP:20260422T144135
CREATED:20210530T115607Z
LAST-MODIFIED:20210530T115607Z
UID:1880-1623492000-1623499200@ilchibrainyoga-omiya.com
SUMMARY:【大宮】代謝アップ！腸活性化ヨガ体験会
DESCRIPTION:話題の「腸活」ヨガはじめませんか？ \n腸を整えていつまでも元気で \n若々しくいたいあなたへ♪ \n肩や腰の筋肉がこりやすい、イライラの原因は、腸にあり！どなたにもできる簡単な体操や呼吸法、腸をほぐすことで、効率よく脳を活性化できます。体も心も脳もスッキリしましょう！ \n会場名：イルチブレインヨガ大宮スタジオ\n会場住所：さいたま市大宮区大門町2-109大越ビル５階\n参加費：1\,000円\n問合せ電話：048-644-5400\nトレーナー：高山\nその他：持ち物は動きやすい服装、タオル、飲み物をご持参ください。 \n\nオンラインでも体験できます！（zoom使用）\n申し込み、お支払いは\nホームページからお願い致します。\nhttps://online.ilchibrainyoga.com/studio/saitama/omiya/
URL:https://ilchibrainyoga-omiya.com/event/0612/
LOCATION:イルチブレインヨガ大宮スタジオ\, 埼玉県さいたま市大宮区大門町2-109 大越ビル 5階\, 日本
ATTACH;FMTTYPE=image/jpeg:https://ilchibrainyoga-omiya.com/wp-content/uploads/2020/08/maxresdefault-21.jpg
END:VEVENT
BEGIN:VEVENT
DTSTART;TZID=Asia/Tokyo:20210616T100000
DTEND;TZID=Asia/Tokyo:20210616T120000
DTSTAMP:20260422T144135
CREATED:20210530T115716Z
LAST-MODIFIED:20210530T115716Z
UID:1882-1623837600-1623844800@ilchibrainyoga-omiya.com
SUMMARY:【大宮】代謝アップ！腸活性化ヨガ体験会
DESCRIPTION:話題の「腸活」ヨガはじめませんか？ \n腸を整えていつまでも元気で \n若々しくいたいあなたへ♪ \n肩や腰の筋肉がこりやすい、イライラの原因は、腸にあり！どなたにもできる簡単な体操や呼吸法、腸をほぐすことで、効率よく脳を活性化できます。体も心も脳もスッキリしましょう！ \n会場名：イルチブレインヨガ大宮スタジオ\n会場住所：さいたま市大宮区大門町2-109大越ビル５階\n参加費：1\,000円\n問合せ電話：048-644-5400\nトレーナー：高山\nその他：持ち物は動きやすい服装、タオル、飲み物をご持参ください。 \n\nオンラインでも体験できます！（zoom使用）\n申し込み、お支払いは\nホームページからお願い致します。\nhttps://online.ilchibrainyoga.com/studio/saitama/omiya/
URL:https://ilchibrainyoga-omiya.com/event/0616/
LOCATION:イルチブレインヨガ大宮スタジオ\, 埼玉県さいたま市大宮区大門町2-109 大越ビル 5階\, 日本
ATTACH;FMTTYPE=image/jpeg:https://ilchibrainyoga-omiya.com/wp-content/uploads/2020/08/maxresdefault-21.jpg
END:VEVENT
BEGIN:VEVENT
DTSTART;TZID=Asia/Tokyo:20210617T140000
DTEND;TZID=Asia/Tokyo:20210617T160000
DTSTAMP:20260422T144135
CREATED:20210530T115859Z
LAST-MODIFIED:20210530T155313Z
UID:1886-1623938400-1623945600@ilchibrainyoga-omiya.com
SUMMARY:【大宮】代謝アップ！腸活性化ヨガ体験会
DESCRIPTION:話題の「腸活」ヨガはじめませんか？ \n腸を整えていつまでも元気で \n若々しくいたいあなたへ♪ \n肩や腰の筋肉がこりやすい、イライラの原因は、腸にあり！どなたにもできる簡単な体操や呼吸法、腸をほぐすことで、効率よく脳を活性化できます。体も心も脳もスッキリしましょう！ \n会場名：イルチブレインヨガ大宮スタジオ\n会場住所：さいたま市大宮区大門町2-109大越ビル５階\n参加費：1\,000円\n問合せ電話：048-644-5400\nトレーナー：高山\nその他：持ち物は動きやすい服装、タオル、飲み物をご持参ください。 \n\nオンラインでも体験できます！（zoom使用）\n申し込み、お支払いは\nホームページからお願い致します。\nhttps://online.ilchibrainyoga.com/studio/saitama/omiya/
URL:https://ilchibrainyoga-omiya.com/event/0617/
LOCATION:イルチブレインヨガ大宮スタジオ\, 埼玉県さいたま市大宮区大門町2-109 大越ビル 5階\, 日本
ATTACH;FMTTYPE=image/jpeg:https://ilchibrainyoga-omiya.com/wp-content/uploads/2020/08/maxresdefault-21.jpg
END:VEVENT
BEGIN:VEVENT
DTSTART;TZID=Asia/Tokyo:20210619T140000
DTEND;TZID=Asia/Tokyo:20210619T160000
DTSTAMP:20260422T144135
CREATED:20210530T155426Z
LAST-MODIFIED:20210530T155426Z
UID:1902-1624111200-1624118400@ilchibrainyoga-omiya.com
SUMMARY:【大宮】代謝アップ！腸活性化ヨガ体験会
DESCRIPTION:話題の「腸活」ヨガはじめませんか？ \n腸を整えていつまでも元気で \n若々しくいたいあなたへ♪ \n肩や腰の筋肉がこりやすい、イライラの原因は、腸にあり！どなたにもできる簡単な体操や呼吸法、腸をほぐすことで、効率よく脳を活性化できます。体も心も脳もスッキリしましょう！ \n会場名：イルチブレインヨガ大宮スタジオ\n会場住所：さいたま市大宮区大門町2-109大越ビル５階\n参加費：1\,000円\n問合せ電話：048-644-5400\nトレーナー：高山\nその他：持ち物は動きやすい服装、タオル、飲み物をご持参ください。 \n\nオンラインでも体験できます！（zoom使用）\n申し込み、お支払いは\nホームページからお願い致します。\nhttps://online.ilchibrainyoga.com/studio/saitama/omiya/
URL:https://ilchibrainyoga-omiya.com/event/0619/
LOCATION:イルチブレインヨガ大宮スタジオ\, 埼玉県さいたま市大宮区大門町2-109 大越ビル 5階\, 日本
ATTACH;FMTTYPE=image/jpeg:https://ilchibrainyoga-omiya.com/wp-content/uploads/2020/08/maxresdefault-21.jpg
END:VEVENT
BEGIN:VEVENT
DTSTART;TZID=Asia/Tokyo:20210622T190000
DTEND;TZID=Asia/Tokyo:20210622T210000
DTSTAMP:20260422T144135
CREATED:20210530T120216Z
LAST-MODIFIED:20210530T120216Z
UID:1891-1624388400-1624395600@ilchibrainyoga-omiya.com
SUMMARY:【大宮】代謝アップ！腸活性化ヨガ体験会
DESCRIPTION:話題の「腸活」ヨガはじめませんか？ \n腸を整えていつまでも元気で \n若々しくいたいあなたへ♪ \n肩や腰の筋肉がこりやすい、イライラの原因は、腸にあり！どなたにもできる簡単な体操や呼吸法、腸をほぐすことで、効率よく脳を活性化できます。体も心も脳もスッキリしましょう！ \n会場名：イルチブレインヨガ大宮スタジオ\n会場住所：さいたま市大宮区大門町2-109大越ビル５階\n参加費：1\,000円\n問合せ電話：048-644-5400\nトレーナー：高山\nその他：持ち物は動きやすい服装、タオル、飲み物をご持参ください。 \n\nオンラインでも体験できます！（zoom使用）\n申し込み、お支払いは\nホームページからお願い致します。\nhttps://online.ilchibrainyoga.com/studio/saitama/omiya/
URL:https://ilchibrainyoga-omiya.com/event/0624/
LOCATION:イルチブレインヨガ大宮スタジオ\, 埼玉県さいたま市大宮区大門町2-109 大越ビル 5階\, 日本
ATTACH;FMTTYPE=image/jpeg:https://ilchibrainyoga-omiya.com/wp-content/uploads/2020/08/maxresdefault-21.jpg
END:VEVENT
BEGIN:VEVENT
DTSTART;TZID=Asia/Tokyo:20210625T140000
DTEND;TZID=Asia/Tokyo:20210625T160000
DTSTAMP:20260422T144135
CREATED:20210530T120303Z
LAST-MODIFIED:20210530T120303Z
UID:1893-1624629600-1624636800@ilchibrainyoga-omiya.com
SUMMARY:【大宮】代謝アップ！腸活性化ヨガ体験会
DESCRIPTION:話題の「腸活」ヨガはじめませんか？ \n腸を整えていつまでも元気で \n若々しくいたいあなたへ♪ \n肩や腰の筋肉がこりやすい、イライラの原因は、腸にあり！どなたにもできる簡単な体操や呼吸法、腸をほぐすことで、効率よく脳を活性化できます。体も心も脳もスッキリしましょう！ \n会場名：イルチブレインヨガ大宮スタジオ\n会場住所：さいたま市大宮区大門町2-109大越ビル５階\n参加費：1\,000円\n問合せ電話：048-644-5400\nトレーナー：高山\nその他：持ち物は動きやすい服装、タオル、飲み物をご持参ください。 \n\nオンラインでも体験できます！（zoom使用）\n申し込み、お支払いは\nホームページからお願い致します。\nhttps://online.ilchibrainyoga.com/studio/saitama/omiya/
URL:https://ilchibrainyoga-omiya.com/event/0625/
LOCATION:イルチブレインヨガ大宮スタジオ\, 埼玉県さいたま市大宮区大門町2-109 大越ビル 5階\, 日本
ATTACH;FMTTYPE=image/jpeg:https://ilchibrainyoga-omiya.com/wp-content/uploads/2020/08/maxresdefault-21.jpg
END:VEVENT
BEGIN:VEVENT
DTSTART;TZID=Asia/Tokyo:20210627T100000
DTEND;TZID=Asia/Tokyo:20210627T120000
DTSTAMP:20260422T144135
CREATED:20210530T120403Z
LAST-MODIFIED:20210530T120403Z
UID:1895-1624788000-1624795200@ilchibrainyoga-omiya.com
SUMMARY:【大宮】代謝アップ！腸活性化ヨガ体験会
DESCRIPTION:話題の「腸活」ヨガはじめませんか？ \n腸を整えていつまでも元気で \n若々しくいたいあなたへ♪ \n肩や腰の筋肉がこりやすい、イライラの原因は、腸にあり！どなたにもできる簡単な体操や呼吸法、腸をほぐすことで、効率よく脳を活性化できます。体も心も脳もスッキリしましょう！ \n会場名：イルチブレインヨガ大宮スタジオ\n会場住所：さいたま市大宮区大門町2-109大越ビル５階\n参加費：1\,000円\n問合せ電話：048-644-5400\nトレーナー：高山\nその他：持ち物は動きやすい服装、タオル、飲み物をご持参ください。 \n\nオンラインでも体験できます！（zoom使用）\n申し込み、お支払いは\nホームページからお願い致します。\nhttps://online.ilchibrainyoga.com/studio/saitama/omiya/
URL:https://ilchibrainyoga-omiya.com/event/0627/
LOCATION:イルチブレインヨガ大宮スタジオ\, 埼玉県さいたま市大宮区大門町2-109 大越ビル 5階\, 日本
ATTACH;FMTTYPE=image/jpeg:https://ilchibrainyoga-omiya.com/wp-content/uploads/2020/08/maxresdefault-21.jpg
END:VEVENT
BEGIN:VEVENT
DTSTART;TZID=Asia/Tokyo:20210629T140000
DTEND;TZID=Asia/Tokyo:20210629T160000
DTSTAMP:20260422T144135
CREATED:20210530T120526Z
LAST-MODIFIED:20210530T120526Z
UID:1897-1624975200-1624982400@ilchibrainyoga-omiya.com
SUMMARY:【大宮】代謝アップ！腸活性化ヨガ体験会
DESCRIPTION:話題の「腸活」ヨガはじめませんか？ \n腸を整えていつまでも元気で \n若々しくいたいあなたへ♪ \n肩や腰の筋肉がこりやすい、イライラの原因は、腸にあり！どなたにもできる簡単な体操や呼吸法、腸をほぐすことで、効率よく脳を活性化できます。体も心も脳もスッキリしましょう！ \n会場名：イルチブレインヨガ大宮スタジオ\n会場住所：さいたま市大宮区大門町2-109大越ビル５階\n参加費：1\,000円\n問合せ電話：048-644-5400\nトレーナー：高山\nその他：持ち物は動きやすい服装、タオル、飲み物をご持参ください。 \n\nオンラインでも体験できます！（zoom使用）\n申し込み、お支払いは\nホームページからお願い致します。\nhttps://online.ilchibrainyoga.com/studio/saitama/omiya/
URL:https://ilchibrainyoga-omiya.com/event/0629/
LOCATION:イルチブレインヨガ大宮スタジオ\, 埼玉県さいたま市大宮区大門町2-109 大越ビル 5階\, 日本
ATTACH;FMTTYPE=image/jpeg:https://ilchibrainyoga-omiya.com/wp-content/uploads/2020/08/maxresdefault-21.jpg
END:VEVENT
BEGIN:VEVENT
DTSTART;TZID=Asia/Tokyo:20210630T100000
DTEND;TZID=Asia/Tokyo:20210630T120000
DTSTAMP:20260422T144135
CREATED:20210530T120646Z
LAST-MODIFIED:20210530T120646Z
UID:1899-1625047200-1625054400@ilchibrainyoga-omiya.com
SUMMARY:【大宮】代謝アップ！腸活性化ヨガ体験会
DESCRIPTION:話題の「腸活」ヨガはじめませんか？ \n腸を整えていつまでも元気で \n若々しくいたいあなたへ♪ \n肩や腰の筋肉がこりやすい、イライラの原因は、腸にあり！どなたにもできる簡単な体操や呼吸法、腸をほぐすことで、効率よく脳を活性化できます。体も心も脳もスッキリしましょう！ \n会場名：イルチブレインヨガ大宮スタジオ\n会場住所：さいたま市大宮区大門町2-109大越ビル５階\n参加費：1\,000円\n問合せ電話：048-644-5400\nトレーナー：高山\nその他：持ち物は動きやすい服装、タオル、飲み物をご持参ください。 \n\nオンラインでも体験できます！（zoom使用）\n申し込み、お支払いは\nホームページからお願い致します。\nhttps://online.ilchibrainyoga.com/studio/saitama/omiya/
URL:https://ilchibrainyoga-omiya.com/event/0630/
LOCATION:イルチブレインヨガ大宮スタジオ\, 埼玉県さいたま市大宮区大門町2-109 大越ビル 5階\, 日本
ATTACH;FMTTYPE=image/jpeg:https://ilchibrainyoga-omiya.com/wp-content/uploads/2020/08/maxresdefault-21.jpg
END:VEVENT
BEGIN:VEVENT
DTSTART;TZID=Asia/Tokyo:20210701T140000
DTEND;TZID=Asia/Tokyo:20210701T160000
DTSTAMP:20260422T144135
CREATED:20210628T080703Z
LAST-MODIFIED:20210628T080703Z
UID:1954-1625148000-1625155200@ilchibrainyoga-omiya.com
SUMMARY:【大宮】体質改善！お腹ポカポカ頭スッキリ体験会
DESCRIPTION:体力がつくと血液と気エネルギーの流れがスムーズになり、体質改善や自然治癒力向上につながり健康になります。また心力が高まるとストレス耐性が高くなります。人間性が高まり心に余裕が生まれて人間関係もよくなります。 \n会場名：イルチブレインヨガ大宮スタジオ\n会場住所：さいたま市大宮区大門町2-109大越ビル５階\n参加費：1\,000円\n問合せ電話：048-644-5400\nトレーナー：高山\nその他：持ち物は動きやすい服装、タオル、飲み物をご持参ください。 \n\nオンラインでも体験できます！（zoom使用）\n申し込み、お支払いは\nホームページからお願い致します。\nhttps://online.ilchibrainyoga.com/studio/saitama/omiya/
URL:https://ilchibrainyoga-omiya.com/event/0701/
LOCATION:イルチブレインヨガ大宮スタジオ\, 埼玉県さいたま市大宮区大門町2-109 大越ビル 5階\, 日本
ATTACH;FMTTYPE=image/jpeg:https://ilchibrainyoga-omiya.com/wp-content/uploads/2020/11/maxresdefault.jpg
END:VEVENT
BEGIN:VEVENT
DTSTART;TZID=Asia/Tokyo:20210703T100000
DTEND;TZID=Asia/Tokyo:20210703T120000
DTSTAMP:20260422T144135
CREATED:20210628T080804Z
LAST-MODIFIED:20210628T080804Z
UID:1956-1625306400-1625313600@ilchibrainyoga-omiya.com
SUMMARY:【大宮】体質改善！お腹ポカポカ頭スッキリ体験会
DESCRIPTION:体力がつくと血液と気エネルギーの流れがスムーズになり、体質改善や自然治癒力向上につながり健康になります。また心力が高まるとストレス耐性が高くなります。人間性が高まり心に余裕が生まれて人間関係もよくなります。 \n会場名：イルチブレインヨガ大宮スタジオ\n会場住所：さいたま市大宮区大門町2-109大越ビル５階\n参加費：1\,000円\n問合せ電話：048-644-5400\nトレーナー：高山\nその他：持ち物は動きやすい服装、タオル、飲み物をご持参ください。 \n\nオンラインでも体験できます！（zoom使用）\n申し込み、お支払いは\nホームページからお願い致します。\nhttps://online.ilchibrainyoga.com/studio/saitama/omiya/
URL:https://ilchibrainyoga-omiya.com/event/0703/
LOCATION:イルチブレインヨガ大宮スタジオ\, 埼玉県さいたま市大宮区大門町2-109 大越ビル 5階\, 日本
ATTACH;FMTTYPE=image/jpeg:https://ilchibrainyoga-omiya.com/wp-content/uploads/2020/11/maxresdefault.jpg
END:VEVENT
BEGIN:VEVENT
DTSTART;TZID=Asia/Tokyo:20210704T100000
DTEND;TZID=Asia/Tokyo:20210704T120000
DTSTAMP:20260422T144135
CREATED:20210628T080920Z
LAST-MODIFIED:20210628T080920Z
UID:1958-1625392800-1625400000@ilchibrainyoga-omiya.com
SUMMARY:【大宮】体質改善！お腹ポカポカ頭スッキリ体験会
DESCRIPTION:体力がつくと血液と気エネルギーの流れがスムーズになり、体質改善や自然治癒力向上につながり健康になります。また心力が高まるとストレス耐性が高くなります。人間性が高まり心に余裕が生まれて人間関係もよくなります。 \n会場名：イルチブレインヨガ大宮スタジオ\n会場住所：さいたま市大宮区大門町2-109大越ビル５階\n参加費：1\,000円\n問合せ電話：048-644-5400\nトレーナー：高山\nその他：持ち物は動きやすい服装、タオル、飲み物をご持参ください。 \n\nオンラインでも体験できます！（zoom使用）\n申し込み、お支払いは\nホームページからお願い致します。\nhttps://online.ilchibrainyoga.com/studio/saitama/omiya/
URL:https://ilchibrainyoga-omiya.com/event/20210704/
LOCATION:イルチブレインヨガ大宮スタジオ\, 埼玉県さいたま市大宮区大門町2-109 大越ビル 5階\, 日本
ATTACH;FMTTYPE=image/jpeg:https://ilchibrainyoga-omiya.com/wp-content/uploads/2020/11/maxresdefault.jpg
END:VEVENT
BEGIN:VEVENT
DTSTART;TZID=Asia/Tokyo:20210707T100000
DTEND;TZID=Asia/Tokyo:20210707T120000
DTSTAMP:20260422T144135
CREATED:20210628T081012Z
LAST-MODIFIED:20210628T081012Z
UID:1960-1625652000-1625659200@ilchibrainyoga-omiya.com
SUMMARY:【大宮】体質改善！お腹ポカポカ頭スッキリ体験会
DESCRIPTION:体力がつくと血液と気エネルギーの流れがスムーズになり、体質改善や自然治癒力向上につながり健康になります。また心力が高まるとストレス耐性が高くなります。人間性が高まり心に余裕が生まれて人間関係もよくなります。 \n会場名：イルチブレインヨガ大宮スタジオ\n会場住所：さいたま市大宮区大門町2-109大越ビル５階\n参加費：1\,000円\n問合せ電話：048-644-5400\nトレーナー：高山\nその他：持ち物は動きやすい服装、タオル、飲み物をご持参ください。 \n\nオンラインでも体験できます！（zoom使用）\n申し込み、お支払いは\nホームページからお願い致します。\nhttps://online.ilchibrainyoga.com/studio/saitama/omiya/
URL:https://ilchibrainyoga-omiya.com/event/20210707/
LOCATION:イルチブレインヨガ大宮スタジオ\, 埼玉県さいたま市大宮区大門町2-109 大越ビル 5階\, 日本
ATTACH;FMTTYPE=image/jpeg:https://ilchibrainyoga-omiya.com/wp-content/uploads/2020/11/maxresdefault.jpg
END:VEVENT
BEGIN:VEVENT
DTSTART;TZID=Asia/Tokyo:20210709T190000
DTEND;TZID=Asia/Tokyo:20210709T210000
DTSTAMP:20260422T144135
CREATED:20210628T081124Z
LAST-MODIFIED:20210628T081124Z
UID:1962-1625857200-1625864400@ilchibrainyoga-omiya.com
SUMMARY:【大宮】体質改善！お腹ポカポカ頭スッキリ体験会
DESCRIPTION:体力がつくと血液と気エネルギーの流れがスムーズになり、体質改善や自然治癒力向上につながり健康になります。また心力が高まるとストレス耐性が高くなります。人間性が高まり心に余裕が生まれて人間関係もよくなります。 \n会場名：イルチブレインヨガ大宮スタジオ\n会場住所：さいたま市大宮区大門町2-109大越ビル５階\n参加費：1\,000円\n問合せ電話：048-644-5400\nトレーナー：高山\nその他：持ち物は動きやすい服装、タオル、飲み物をご持参ください。 \n\nオンラインでも体験できます！（zoom使用）\n申し込み、お支払いは\nホームページからお願い致します。\nhttps://online.ilchibrainyoga.com/studio/saitama/omiya/
URL:https://ilchibrainyoga-omiya.com/event/20210709/
LOCATION:イルチブレインヨガ大宮スタジオ\, 埼玉県さいたま市大宮区大門町2-109 大越ビル 5階\, 日本
ATTACH;FMTTYPE=image/jpeg:https://ilchibrainyoga-omiya.com/wp-content/uploads/2020/11/maxresdefault.jpg
END:VEVENT
BEGIN:VEVENT
DTSTART;TZID=Asia/Tokyo:20210711T100000
DTEND;TZID=Asia/Tokyo:20210711T120000
DTSTAMP:20260422T144135
CREATED:20210628T081245Z
LAST-MODIFIED:20210628T081245Z
UID:1964-1625997600-1626004800@ilchibrainyoga-omiya.com
SUMMARY:【大宮】体質改善！お腹ポカポカ頭スッキリ体験会
DESCRIPTION:体力がつくと血液と気エネルギーの流れがスムーズになり、体質改善や自然治癒力向上につながり健康になります。また心力が高まるとストレス耐性が高くなります。人間性が高まり心に余裕が生まれて人間関係もよくなります。 \n会場名：イルチブレインヨガ大宮スタジオ\n会場住所：さいたま市大宮区大門町2-109大越ビル５階\n参加費：1\,000円\n問合せ電話：048-644-5400\nトレーナー：高山\nその他：持ち物は動きやすい服装、タオル、飲み物をご持参ください。 \n\nオンラインでも体験できます！（zoom使用）\n申し込み、お支払いは\nホームページからお願い致します。\nhttps://online.ilchibrainyoga.com/studio/saitama/omiya/
URL:https://ilchibrainyoga-omiya.com/event/20210711/
LOCATION:イルチブレインヨガ大宮スタジオ\, 埼玉県さいたま市大宮区大門町2-109 大越ビル 5階\, 日本
ATTACH;FMTTYPE=image/jpeg:https://ilchibrainyoga-omiya.com/wp-content/uploads/2020/11/maxresdefault.jpg
END:VEVENT
BEGIN:VEVENT
DTSTART;TZID=Asia/Tokyo:20210713T100000
DTEND;TZID=Asia/Tokyo:20210713T120000
DTSTAMP:20260422T144135
CREATED:20210628T081348Z
LAST-MODIFIED:20210628T081348Z
UID:1966-1626170400-1626177600@ilchibrainyoga-omiya.com
SUMMARY:【大宮】体質改善！お腹ポカポカ頭スッキリ体験会
DESCRIPTION:体力がつくと血液と気エネルギーの流れがスムーズになり、体質改善や自然治癒力向上につながり健康になります。また心力が高まるとストレス耐性が高くなります。人間性が高まり心に余裕が生まれて人間関係もよくなります。 \n会場名：イルチブレインヨガ大宮スタジオ\n会場住所：さいたま市大宮区大門町2-109大越ビル５階\n参加費：1\,000円\n問合せ電話：048-644-5400\nトレーナー：高山\nその他：持ち物は動きやすい服装、タオル、飲み物をご持参ください。 \n\nオンラインでも体験できます！（zoom使用）\n申し込み、お支払いは\nホームページからお願い致します。\nhttps://online.ilchibrainyoga.com/studio/saitama/omiya/
URL:https://ilchibrainyoga-omiya.com/event/20210713/
LOCATION:イルチブレインヨガ大宮スタジオ\, 埼玉県さいたま市大宮区大門町2-109 大越ビル 5階\, 日本
ATTACH;FMTTYPE=image/jpeg:https://ilchibrainyoga-omiya.com/wp-content/uploads/2020/11/maxresdefault.jpg
END:VEVENT
BEGIN:VEVENT
DTSTART;TZID=Asia/Tokyo:20210715T100000
DTEND;TZID=Asia/Tokyo:20210715T120000
DTSTAMP:20260422T144135
CREATED:20210628T081625Z
LAST-MODIFIED:20210628T081625Z
UID:1970-1626343200-1626350400@ilchibrainyoga-omiya.com
SUMMARY:【大宮】体質改善！お腹ポカポカ頭スッキリ体験会
DESCRIPTION:体力がつくと血液と気エネルギーの流れがスムーズになり、体質改善や自然治癒力向上につながり健康になります。また心力が高まるとストレス耐性が高くなります。人間性が高まり心に余裕が生まれて人間関係もよくなります。 \n会場名：イルチブレインヨガ大宮スタジオ\n会場住所：さいたま市大宮区大門町2-109大越ビル５階\n参加費：1\,000円\n問合せ電話：048-644-5400\nトレーナー：高山\nその他：持ち物は動きやすい服装、タオル、飲み物をご持参ください。 \n\nオンラインでも体験できます！（zoom使用）\n申し込み、お支払いは\nホームページからお願い致します。\nhttps://online.ilchibrainyoga.com/studio/saitama/omiya/
URL:https://ilchibrainyoga-omiya.com/event/20210715/
LOCATION:イルチブレインヨガ大宮スタジオ\, 埼玉県さいたま市大宮区大門町2-109 大越ビル 5階\, 日本
ATTACH;FMTTYPE=image/jpeg:https://ilchibrainyoga-omiya.com/wp-content/uploads/2020/11/maxresdefault.jpg
END:VEVENT
BEGIN:VEVENT
DTSTART;TZID=Asia/Tokyo:20210718T100000
DTEND;TZID=Asia/Tokyo:20210718T120000
DTSTAMP:20260422T144135
CREATED:20210628T081458Z
LAST-MODIFIED:20210628T081458Z
UID:1968-1626602400-1626609600@ilchibrainyoga-omiya.com
SUMMARY:【大宮】体質改善！お腹ポカポカ頭スッキリ体験会
DESCRIPTION:体力がつくと血液と気エネルギーの流れがスムーズになり、体質改善や自然治癒力向上につながり健康になります。また心力が高まるとストレス耐性が高くなります。人間性が高まり心に余裕が生まれて人間関係もよくなります。 \n会場名：イルチブレインヨガ大宮スタジオ\n会場住所：さいたま市大宮区大門町2-109大越ビル５階\n参加費：1\,000円\n問合せ電話：048-644-5400\nトレーナー：高山\nその他：持ち物は動きやすい服装、タオル、飲み物をご持参ください。 \n\nオンラインでも体験できます！（zoom使用）\n申し込み、お支払いは\nホームページからお願い致します。\nhttps://online.ilchibrainyoga.com/studio/saitama/omiya/
URL:https://ilchibrainyoga-omiya.com/event/20210718/
LOCATION:イルチブレインヨガ大宮スタジオ\, 埼玉県さいたま市大宮区大門町2-109 大越ビル 5階\, 日本
ATTACH;FMTTYPE=image/jpeg:https://ilchibrainyoga-omiya.com/wp-content/uploads/2020/11/maxresdefault.jpg
END:VEVENT
BEGIN:VEVENT
DTSTART;TZID=Asia/Tokyo:20210720T100000
DTEND;TZID=Asia/Tokyo:20210720T120000
DTSTAMP:20260422T144135
CREATED:20210709T054119Z
LAST-MODIFIED:20210709T054119Z
UID:1991-1626775200-1626782400@ilchibrainyoga-omiya.com
SUMMARY:【大宮】体質改善！お腹ポカポカ頭スッキリ体験会
DESCRIPTION:体力がつくと血液と気エネルギーの流れがスムーズになり、体質改善や自然治癒力向上につながり健康になります。また心力が高まるとストレス耐性が高くなります。人間性が高まり心に余裕が生まれて人間関係もよくなります。 \n会場名：イルチブレインヨガ大宮スタジオ\n会場住所：さいたま市大宮区大門町2-109大越ビル５階\n参加費：1\,000円\n問合せ電話：048-644-5400\nトレーナー：高山\nその他：持ち物は動きやすい服装、タオル、飲み物をご持参ください。 \n\nオンラインでも体験できます！（zoom使用）\n申し込み、お支払いは\nホームページからお願い致します。\nhttps://online.ilchibrainyoga.com/studio/saitama/omiya/
URL:https://ilchibrainyoga-omiya.com/event/0720/
LOCATION:イルチブレインヨガ大宮スタジオ\, 埼玉県さいたま市大宮区大門町2-109 大越ビル 5階\, 日本
ATTACH;FMTTYPE=image/jpeg:https://ilchibrainyoga-omiya.com/wp-content/uploads/2020/11/maxresdefault.jpg
END:VEVENT
BEGIN:VEVENT
DTSTART;TZID=Asia/Tokyo:20210723T100000
DTEND;TZID=Asia/Tokyo:20210723T120000
DTSTAMP:20260422T144135
CREATED:20210709T054211Z
LAST-MODIFIED:20210709T054211Z
UID:1993-1627034400-1627041600@ilchibrainyoga-omiya.com
SUMMARY:【大宮】体質改善！お腹ポカポカ頭スッキリ体験会
DESCRIPTION:体力がつくと血液と気エネルギーの流れがスムーズになり、体質改善や自然治癒力向上につながり健康になります。また心力が高まるとストレス耐性が高くなります。人間性が高まり心に余裕が生まれて人間関係もよくなります。 \n会場名：イルチブレインヨガ大宮スタジオ\n会場住所：さいたま市大宮区大門町2-109大越ビル５階\n参加費：1\,000円\n問合せ電話：048-644-5400\nトレーナー：高山\nその他：持ち物は動きやすい服装、タオル、飲み物をご持参ください。 \n\nオンラインでも体験できます！（zoom使用）\n申し込み、お支払いは\nホームページからお願い致します。\nhttps://online.ilchibrainyoga.com/studio/saitama/omiya/
URL:https://ilchibrainyoga-omiya.com/event/20210723/
LOCATION:イルチブレインヨガ大宮スタジオ\, 埼玉県さいたま市大宮区大門町2-109 大越ビル 5階\, 日本
ATTACH;FMTTYPE=image/jpeg:https://ilchibrainyoga-omiya.com/wp-content/uploads/2020/11/maxresdefault.jpg
END:VEVENT
BEGIN:VEVENT
DTSTART;TZID=Asia/Tokyo:20210724T140000
DTEND;TZID=Asia/Tokyo:20210724T160000
DTSTAMP:20260422T144135
CREATED:20210709T054259Z
LAST-MODIFIED:20210709T054259Z
UID:1995-1627135200-1627142400@ilchibrainyoga-omiya.com
SUMMARY:【大宮】体質改善！お腹ポカポカ頭スッキリ体験会
DESCRIPTION:体力がつくと血液と気エネルギーの流れがスムーズになり、体質改善や自然治癒力向上につながり健康になります。また心力が高まるとストレス耐性が高くなります。人間性が高まり心に余裕が生まれて人間関係もよくなります。 \n会場名：イルチブレインヨガ大宮スタジオ\n会場住所：さいたま市大宮区大門町2-109大越ビル５階\n参加費：1\,000円\n問合せ電話：048-644-5400\nトレーナー：高山\nその他：持ち物は動きやすい服装、タオル、飲み物をご持参ください。 \n\nオンラインでも体験できます！（zoom使用）\n申し込み、お支払いは\nホームページからお願い致します。\nhttps://online.ilchibrainyoga.com/studio/saitama/omiya/
URL:https://ilchibrainyoga-omiya.com/event/0724/
LOCATION:イルチブレインヨガ大宮スタジオ\, 埼玉県さいたま市大宮区大門町2-109 大越ビル 5階\, 日本
ATTACH;FMTTYPE=image/jpeg:https://ilchibrainyoga-omiya.com/wp-content/uploads/2020/11/maxresdefault.jpg
END:VEVENT
BEGIN:VEVENT
DTSTART;TZID=Asia/Tokyo:20210728T190000
DTEND;TZID=Asia/Tokyo:20210728T210000
DTSTAMP:20260422T144135
CREATED:20210709T054420Z
LAST-MODIFIED:20210709T054420Z
UID:1997-1627498800-1627506000@ilchibrainyoga-omiya.com
SUMMARY:【大宮】体質改善！お腹ポカポカ頭スッキリ体験会
DESCRIPTION:体力がつくと血液と気エネルギーの流れがスムーズになり、体質改善や自然治癒力向上につながり健康になります。また心力が高まるとストレス耐性が高くなります。人間性が高まり心に余裕が生まれて人間関係もよくなります。 \n会場名：イルチブレインヨガ大宮スタジオ\n会場住所：さいたま市大宮区大門町2-109大越ビル５階\n参加費：1\,000円\n問合せ電話：048-644-5400\nトレーナー：高山\nその他：持ち物は動きやすい服装、タオル、飲み物をご持参ください。 \n\nオンラインでも体験できます！（zoom使用）\n申し込み、お支払いは\nホームページからお願い致します。\nhttps://online.ilchibrainyoga.com/studio/saitama/omiya/
URL:https://ilchibrainyoga-omiya.com/event/0728/
LOCATION:イルチブレインヨガ大宮スタジオ\, 埼玉県さいたま市大宮区大門町2-109 大越ビル 5階\, 日本
ATTACH;FMTTYPE=image/jpeg:https://ilchibrainyoga-omiya.com/wp-content/uploads/2020/11/maxresdefault.jpg
END:VEVENT
BEGIN:VEVENT
DTSTART;TZID=Asia/Tokyo:20210730T100000
DTEND;TZID=Asia/Tokyo:20210730T120000
DTSTAMP:20260422T144135
CREATED:20210709T054523Z
LAST-MODIFIED:20210709T054523Z
UID:1999-1627639200-1627646400@ilchibrainyoga-omiya.com
SUMMARY:【大宮】体質改善！お腹ポカポカ頭スッキリ体験会
DESCRIPTION:体力がつくと血液と気エネルギーの流れがスムーズになり、体質改善や自然治癒力向上につながり健康になります。また心力が高まるとストレス耐性が高くなります。人間性が高まり心に余裕が生まれて人間関係もよくなります。 \n会場名：イルチブレインヨガ大宮スタジオ\n会場住所：さいたま市大宮区大門町2-109大越ビル５階\n参加費：1\,000円\n問合せ電話：048-644-5400\nトレーナー：高山\nその他：持ち物は動きやすい服装、タオル、飲み物をご持参ください。 \n\nオンラインでも体験できます！（zoom使用）\n申し込み、お支払いは\nホームページからお願い致します。\nhttps://online.ilchibrainyoga.com/studio/saitama/omiya/
URL:https://ilchibrainyoga-omiya.com/event/0730/
LOCATION:イルチブレインヨガ大宮スタジオ\, 埼玉県さいたま市大宮区大門町2-109 大越ビル 5階\, 日本
ATTACH;FMTTYPE=image/jpeg:https://ilchibrainyoga-omiya.com/wp-content/uploads/2020/11/maxresdefault.jpg
END:VEVENT
BEGIN:VEVENT
DTSTART;TZID=Asia/Tokyo:20210801T100000
DTEND;TZID=Asia/Tokyo:20210801T120000
DTSTAMP:20260422T144135
CREATED:20210727T134451Z
LAST-MODIFIED:20210727T134451Z
UID:2028-1627812000-1627819200@ilchibrainyoga-omiya.com
SUMMARY:【大宮】脳腸トレーニングで夏バテ対策！体験会
DESCRIPTION:夏バテ対策のポイントの一つが、腸です。夏になると、屋外と屋内の激しい温度差によって自律神経のバランスが乱れやすくなりますが、これが腸の働きに悪い影響を与えます。どなたにもできる簡単な体操や呼吸法、腸をほぐすことで、効率よく脳と腸を活性化できます。暑さに負けない身体づくりをしませんか？ \n会場名：イルチブレインヨガ大宮スタジオ\n会場住所：さいたま市大宮区大門町2-109大越ビル５階\n参加費：1\,000円\n問合せ電話：048-644-5400\nトレーナー：高山\nその他：持ち物は動きやすい服装、タオル、飲み物をご持参ください。 \n\nオンラインでも体験できます！（zoom使用）\n申し込み、お支払いは\nホームページからお願い致します。\nhttps://online.ilchibrainyoga.com/studio/saitama/omiya/
URL:https://ilchibrainyoga-omiya.com/event/0801/
LOCATION:イルチブレインヨガ大宮スタジオ\, 埼玉県さいたま市大宮区大門町2-109 大越ビル 5階\, 日本
ATTACH;FMTTYPE=image/jpeg:https://ilchibrainyoga-omiya.com/wp-content/uploads/2020/08/maxresdefault-21.jpg
END:VEVENT
BEGIN:VEVENT
DTSTART;TZID=Asia/Tokyo:20210803T190000
DTEND;TZID=Asia/Tokyo:20210803T210000
DTSTAMP:20260422T144135
CREATED:20210727T134559Z
LAST-MODIFIED:20210727T134559Z
UID:2030-1628017200-1628024400@ilchibrainyoga-omiya.com
SUMMARY:【大宮】脳腸トレーニングで夏バテ対策！体験会
DESCRIPTION:夏バテ対策のポイントの一つが、腸です。夏になると、屋外と屋内の激しい温度差によって自律神経のバランスが乱れやすくなりますが、これが腸の働きに悪い影響を与えます。どなたにもできる簡単な体操や呼吸法、腸をほぐすことで、効率よく脳と腸を活性化できます。暑さに負けない身体づくりをしませんか？ \n会場名：イルチブレインヨガ大宮スタジオ\n会場住所：さいたま市大宮区大門町2-109大越ビル５階\n参加費：1\,000円\n問合せ電話：048-644-5400\nトレーナー：高山\nその他：持ち物は動きやすい服装、タオル、飲み物をご持参ください。 \n\nオンラインでも体験できます！（zoom使用）\n申し込み、お支払いは\nホームページからお願い致します。\nhttps://online.ilchibrainyoga.com/studio/saitama/omiya/
URL:https://ilchibrainyoga-omiya.com/event/0803/
LOCATION:イルチブレインヨガ大宮スタジオ\, 埼玉県さいたま市大宮区大門町2-109 大越ビル 5階\, 日本
ATTACH;FMTTYPE=image/jpeg:https://ilchibrainyoga-omiya.com/wp-content/uploads/2020/08/maxresdefault-21.jpg
END:VEVENT
BEGIN:VEVENT
DTSTART;TZID=Asia/Tokyo:20210804T190000
DTEND;TZID=Asia/Tokyo:20210804T210000
DTSTAMP:20260422T144135
CREATED:20210727T135118Z
LAST-MODIFIED:20210727T135118Z
UID:2032-1628103600-1628110800@ilchibrainyoga-omiya.com
SUMMARY:【大宮】脳腸トレーニングで夏バテ対策！体験会
DESCRIPTION:夏バテ対策のポイントの一つが、腸です。夏になると、屋外と屋内の激しい温度差によって自律神経のバランスが乱れやすくなりますが、これが腸の働きに悪い影響を与えます。どなたにもできる簡単な体操や呼吸法、腸をほぐすことで、効率よく脳と腸を活性化できます。暑さに負けない身体づくりをしませんか？ \n会場名：イルチブレインヨガ大宮スタジオ\n会場住所：さいたま市大宮区大門町2-109大越ビル５階\n参加費：1\,000円\n問合せ電話：048-644-5400\nトレーナー：高山\nその他：持ち物は動きやすい服装、タオル、飲み物をご持参ください。 \n\nオンラインでも体験できます！（zoom使用）\n申し込み、お支払いは\nホームページからお願い致します。\nhttps://online.ilchibrainyoga.com/studio/saitama/omiya/
URL:https://ilchibrainyoga-omiya.com/event/0804/
LOCATION:イルチブレインヨガ大宮スタジオ\, 埼玉県さいたま市大宮区大門町2-109 大越ビル 5階\, 日本
ATTACH;FMTTYPE=image/jpeg:https://ilchibrainyoga-omiya.com/wp-content/uploads/2020/08/maxresdefault-21.jpg
END:VEVENT
END:VCALENDAR