BEGIN:VCALENDAR
VERSION:2.0
PRODID:-//イルチブレインヨガ大宮スタジオ - ECPv6.15.20//NONSGML v1.0//EN
CALSCALE:GREGORIAN
METHOD:PUBLISH
X-ORIGINAL-URL:https://ilchibrainyoga-omiya.com
X-WR-CALDESC:イルチブレインヨガ大宮スタジオ のイベント
REFRESH-INTERVAL;VALUE=DURATION:PT1H
X-Robots-Tag:noindex
X-PUBLISHED-TTL:PT1H
BEGIN:VTIMEZONE
TZID:Asia/Tokyo
BEGIN:STANDARD
TZOFFSETFROM:+0900
TZOFFSETTO:+0900
TZNAME:JST
DTSTART:20190101T000000
END:STANDARD
END:VTIMEZONE
BEGIN:VEVENT
DTSTART;TZID=Asia/Tokyo:20201130T103000
DTEND;TZID=Asia/Tokyo:20201230T213000
DTSTAMP:20260422T111039
CREATED:20201130T124457Z
LAST-MODIFIED:20201130T124457Z
UID:1267-1606732200-1609363800@ilchibrainyoga-omiya.com
SUMMARY:【大宮】腸スッキリヨガ・呼吸瞑想体験会
DESCRIPTION:話題の「腸活」ヨガはじめませんか？ \n腸を整えていつまでも元気で若々しくいたいあなたへ♪ \n肩や腰の筋肉がこりやすい、イライラの原因は、腸にあり！ \nどなたにもできる簡単な体操や呼吸法、腸をほぐすことで、効率よく脳を活性化できます。 \n体も心も脳もスッキリしましょう！ \n\n開催日　時間：\n\n12/1（火）9（水）12（土）16（水）20（日）24（木）10：00～12：00 \n12/2（水）10（木）15（火）18（金）19（土）23（水）14：00～16：00 \n12/3（木）8（火）11（金）17（木）22（火）25（金）19：00～21：00 \n会場名：イルチブレインヨガ大宮スタジオ\n会場住所：さいたま市大宮区大門町\n2-109大越ビル５階\n参加費：1\,000円\n問合せ電話：048-644-5400\nトレーナー：高山\nその他：持ち物は動きやすい服装、\nタオル、飲み物をご準備ください。 \n\nオンラインは、zoomで行います。\n申し込み、お支払いは\nホームページからお願い致します。\nhttps://online.ilchibrainyoga.com/studio/saitama/omiya/
URL:https://ilchibrainyoga-omiya.com/event/202012/
LOCATION:イルチブレインヨガ大宮スタジオ\, 埼玉県さいたま市大宮区大門町2-109 大越ビル 5階\, 日本
ATTACH;FMTTYPE=image/png:https://ilchibrainyoga-omiya.com/wp-content/uploads/2020/10/cho.png
END:VEVENT
BEGIN:VEVENT
DTSTART;TZID=Asia/Tokyo:20210105T103000
DTEND;TZID=Asia/Tokyo:20210129T213000
DTSTAMP:20260422T111039
CREATED:20201230T121531Z
LAST-MODIFIED:20201230T121624Z
UID:1359-1609842600-1611955800@ilchibrainyoga-omiya.com
SUMMARY:【大宮】腸スッキリヨガ・呼吸瞑想体験会
DESCRIPTION:イルチブレインヨガの腸がスッキリする腸運動は、お腹を膨らませたりへこませたりするだけの簡単なブレイン体操です。定期的に行うと、お腹まわりの血行がよくなり、かたくなっていた腸もやわらかくなっていきます。 腸にたまっていた血液が循環するようになるので、血液に運ばれて酸素が脳によく供給されるようになり、頭もすっきりします。 また、血流がよくなると心も軽くなります。重かった気分が晴れたり、イライラが減ったり、体と心はつながっていることが実感できると思います。 \n開催日　時間： \n\n1/6（水）10（日）14（木）19（火）21（木）23（土）10：00～12：00 \n1/5（火）9（土）13（水）16（土）20（水）14：00～16：00 \n1/7（木）8（金）12（火）15（金）22（金）19：00～21：00 \n\n会場名：イルチブレインヨガ大宮スタジオ\n会場住所：さいたま市大宮区大門町\n2-109大越ビル５階\n参加費：1\,000円\n問合せ電話：048-644-5400\nトレーナー：高山\nその他：持ち物は動きやすい服装、\nタオル、飲み物をご準備ください。 \n\nオンラインは、zoomで行います。\n申し込み、お支払いは\nホームページからお願い致します。\nhttps://online.ilchibrainyoga.com/studio/saitama/omiya/
URL:https://ilchibrainyoga-omiya.com/event/202101/
LOCATION:イルチブレインヨガ大宮スタジオ\, 埼玉県さいたま市大宮区大門町2-109 大越ビル 5階\, 日本
ATTACH;FMTTYPE=image/png:https://ilchibrainyoga-omiya.com/wp-content/uploads/2020/10/cho.png
END:VEVENT
BEGIN:VEVENT
DTSTART;TZID=Asia/Tokyo:20210202T103000
DTEND;TZID=Asia/Tokyo:20210228T160000
DTSTAMP:20260422T111039
CREATED:20210131T132054Z
LAST-MODIFIED:20210131T132054Z
UID:1446-1612261800-1614528000@ilchibrainyoga-omiya.com
SUMMARY:【大宮】健康増進！腸脳活性化ヨガ体験会
DESCRIPTION:健康寿命をのばすためには、生活習慣の改善に加えて、ストレスケアや生きがいなどの「心」の面がとても大切だといわれます。脳を活性化するイルチブレインヨガで心と体を整え、イキイキとした健康体質をゲットしませんか。 \n開催日　時間： \n\n2/3（水）5（金）7（日）9（火）11（木・祝） 13（土）21（日）27（土）10：00～12：00 \n2/6（土）12（金）17（水）19（金） 20（土）24（水）25（木）28（日）14：00～16：00 \n2/2（火）4（木）2/5（金）10（水）16（火）18（木）23（火）26（金）19：00～21：00 \n\n会場名：イルチブレインヨガ大宮スタジオ\n会場住所：さいたま市大宮区大門町2-109大越ビル５階\n参加費：1\,000円\n問合せ電話：048-644-5400\nトレーナー：高山\nその他：持ち物は動きやすい服装、タオル、飲み物をご持参ください。 \n\nオンラインは、zoomで行います。\n申し込み、お支払いは\nホームページからお願い致します。\nhttps://online.ilchibrainyoga.com/studio/saitama/omiya/
URL:https://ilchibrainyoga-omiya.com/event/202102/
LOCATION:イルチブレインヨガ大宮スタジオ\, 埼玉県さいたま市大宮区大門町2-109 大越ビル 5階\, 日本
ATTACH;FMTTYPE=image/png:https://ilchibrainyoga-omiya.com/wp-content/uploads/2021/01/1.png
END:VEVENT
BEGIN:VEVENT
DTSTART;TZID=Asia/Tokyo:20210302T100000
DTEND;TZID=Asia/Tokyo:20210302T120000
DTSTAMP:20260422T111039
CREATED:20210228T111047Z
LAST-MODIFIED:20210228T111525Z
UID:1528-1614679200-1614686400@ilchibrainyoga-omiya.com
SUMMARY:【大宮】季節の変わり目で不調を感じやすいあなたへ 自律神経のバランスを整える 脳と腸のヨガ
DESCRIPTION:腸をセルフヒーリングして血液循環を促し腸の状態がよくなりリラックスもできストレス解消にもなります。 \n会場名：イルチブレインヨガ大宮スタジオ\n会場住所：さいたま市大宮区大門町2-109大越ビル５階\n参加費：1\,000円\n問合せ電話：048-644-5400\nトレーナー：高山\nその他：持ち物は動きやすい服装、タオル、飲み物をご持参ください。 \n\nオンラインは、zoomで行います。\n申し込み、お支払いは\nホームページからお願い致します。\nhttps://online.ilchibrainyoga.com/studio/saitama/omiya/
URL:https://ilchibrainyoga-omiya.com/event/03/
LOCATION:イルチブレインヨガ大宮スタジオ\, 埼玉県さいたま市大宮区大門町2-109 大越ビル 5階\, 日本
ATTACH;FMTTYPE=image/jpeg:https://ilchibrainyoga-omiya.com/wp-content/uploads/2021/01/maxresdefault-2.jpg
END:VEVENT
BEGIN:VEVENT
DTSTART;TZID=Asia/Tokyo:20210303T190000
DTEND;TZID=Asia/Tokyo:20210303T210000
DTSTAMP:20260422T111039
CREATED:20210228T111156Z
LAST-MODIFIED:20210228T111600Z
UID:1530-1614798000-1614805200@ilchibrainyoga-omiya.com
SUMMARY:【大宮】季節の変わり目で不調を感じやすいあなたへ 自律神経のバランスを整える 脳と腸のヨガ
DESCRIPTION:腸をセルフヒーリングして血液循環を促し腸の状態がよくなりリラックスもできストレス解消にもなります。 \n会場名：イルチブレインヨガ大宮スタジオ\n会場住所：さいたま市大宮区大門町2-109大越ビル５階\n参加費：1\,000円\n問合せ電話：048-644-5400\nトレーナー：高山\nその他：持ち物は動きやすい服装、タオル、飲み物をご持参ください。 \n\nオンラインは、zoomで行います。\n申し込み、お支払いは\nホームページからお願い致します。\nhttps://online.ilchibrainyoga.com/studio/saitama/omiya/
URL:https://ilchibrainyoga-omiya.com/event/0303/
LOCATION:イルチブレインヨガ大宮スタジオ\, 埼玉県さいたま市大宮区大門町2-109 大越ビル 5階\, 日本
ATTACH;FMTTYPE=image/jpeg:https://ilchibrainyoga-omiya.com/wp-content/uploads/2021/01/maxresdefault-2.jpg
END:VEVENT
BEGIN:VEVENT
DTSTART;TZID=Asia/Tokyo:20210304T140000
DTEND;TZID=Asia/Tokyo:20210304T160000
DTSTAMP:20260422T111039
CREATED:20210228T111450Z
LAST-MODIFIED:20210228T111450Z
UID:1532-1614866400-1614873600@ilchibrainyoga-omiya.com
SUMMARY:【大宮】季節の変わり目で不調を感じやすいあなたへ 自律神経のバランスを整える 脳と腸のヨガ
DESCRIPTION:腸をセルフヒーリングして血液循環を促し腸の状態がよくなりリラックスもできストレス解消にもなります。 \n会場名：イルチブレインヨガ大宮スタジオ\n会場住所：さいたま市大宮区大門町2-109大越ビル５階\n参加費：1\,000円\n問合せ電話：048-644-5400\nトレーナー：高山\nその他：持ち物は動きやすい服装、タオル、飲み物をご持参ください。 \n\nオンラインは、zoomで行います。\n申し込み、お支払いは\nホームページからお願い致します。\nhttps://online.ilchibrainyoga.com/studio/saitama/omiya/
URL:https://ilchibrainyoga-omiya.com/event/0304/
LOCATION:イルチブレインヨガ大宮スタジオ\, 埼玉県さいたま市大宮区大門町2-109 大越ビル 5階\, 日本
ATTACH;FMTTYPE=image/jpeg:https://ilchibrainyoga-omiya.com/wp-content/uploads/2021/01/maxresdefault-2.jpg
END:VEVENT
BEGIN:VEVENT
DTSTART;TZID=Asia/Tokyo:20210305T190000
DTEND;TZID=Asia/Tokyo:20210305T210000
DTSTAMP:20260422T111039
CREATED:20210228T113801Z
LAST-MODIFIED:20210228T113801Z
UID:1536-1614970800-1614978000@ilchibrainyoga-omiya.com
SUMMARY:【大宮】季節の変わり目で不調を感じやすいあなたへ 自律神経のバランスを整える 脳と腸のヨガ
DESCRIPTION:腸をセルフヒーリングして血液循環を促し腸の状態がよくなりリラックスもできストレス解消にもなります。 \n会場名：イルチブレインヨガ大宮スタジオ\n会場住所：さいたま市大宮区大門町2-109大越ビル５階\n参加費：1\,000円\n問合せ電話：048-644-5400\nトレーナー：高山\nその他：持ち物は動きやすい服装、タオル、飲み物をご持参ください。 \n\nオンラインは、zoomで行います。\n申し込み、お支払いは\nホームページからお願い致します。\nhttps://online.ilchibrainyoga.com/studio/saitama/omiya/
URL:https://ilchibrainyoga-omiya.com/event/0305/
LOCATION:イルチブレインヨガ大宮スタジオ\, 埼玉県さいたま市大宮区大門町2-109 大越ビル 5階\, 日本
ATTACH;FMTTYPE=image/jpeg:https://ilchibrainyoga-omiya.com/wp-content/uploads/2021/01/maxresdefault-2.jpg
END:VEVENT
BEGIN:VEVENT
DTSTART;TZID=Asia/Tokyo:20210309T140000
DTEND;TZID=Asia/Tokyo:20210309T160000
DTSTAMP:20260422T111039
CREATED:20210228T115329Z
LAST-MODIFIED:20210228T115329Z
UID:1538-1615298400-1615305600@ilchibrainyoga-omiya.com
SUMMARY:【大宮】季節の変わり目で不調を感じやすいあなたへ 自律神経のバランスを整える 脳と腸のヨガ
DESCRIPTION:腸をセルフヒーリングして血液循環を促し腸の状態がよくなりリラックスもできストレス解消にもなります。 \n会場名：イルチブレインヨガ大宮スタジオ\n会場住所：さいたま市大宮区大門町2-109大越ビル５階\n参加費：1\,000円\n問合せ電話：048-644-5400\nトレーナー：高山\nその他：持ち物は動きやすい服装、タオル、飲み物をご持参ください。 \n\nオンラインは、zoomで行います。\n申し込み、お支払いは\nホームページからお願い致します。\nhttps://online.ilchibrainyoga.com/studio/saitama/omiya/
URL:https://ilchibrainyoga-omiya.com/event/0309/
LOCATION:イルチブレインヨガ大宮スタジオ\, 埼玉県さいたま市大宮区大門町2-109 大越ビル 5階\, 日本
ATTACH;FMTTYPE=image/jpeg:https://ilchibrainyoga-omiya.com/wp-content/uploads/2021/01/maxresdefault-2.jpg
END:VEVENT
BEGIN:VEVENT
DTSTART;TZID=Asia/Tokyo:20210310T100000
DTEND;TZID=Asia/Tokyo:20210310T120000
DTSTAMP:20260422T111039
CREATED:20210228T115436Z
LAST-MODIFIED:20210228T115436Z
UID:1540-1615370400-1615377600@ilchibrainyoga-omiya.com
SUMMARY:【大宮】季節の変わり目で不調を感じやすいあなたへ 自律神経のバランスを整える 脳と腸のヨガ
DESCRIPTION:腸をセルフヒーリングして血液循環を促し腸の状態がよくなりリラックスもできストレス解消にもなります。 \n会場名：イルチブレインヨガ大宮スタジオ\n会場住所：さいたま市大宮区大門町2-109大越ビル５階\n参加費：1\,000円\n問合せ電話：048-644-5400\nトレーナー：高山\nその他：持ち物は動きやすい服装、タオル、飲み物をご持参ください。 \n\nオンラインは、zoomで行います。\n申し込み、お支払いは\nホームページからお願い致します。\nhttps://online.ilchibrainyoga.com/studio/saitama/omiya/
URL:https://ilchibrainyoga-omiya.com/event/0310/
LOCATION:イルチブレインヨガ大宮スタジオ\, 埼玉県さいたま市大宮区大門町2-109 大越ビル 5階\, 日本
ATTACH;FMTTYPE=image/jpeg:https://ilchibrainyoga-omiya.com/wp-content/uploads/2021/01/maxresdefault-2.jpg
END:VEVENT
BEGIN:VEVENT
DTSTART;TZID=Asia/Tokyo:20210311T190000
DTEND;TZID=Asia/Tokyo:20210311T210000
DTSTAMP:20260422T111039
CREATED:20210228T115541Z
LAST-MODIFIED:20210228T115541Z
UID:1542-1615489200-1615496400@ilchibrainyoga-omiya.com
SUMMARY:【大宮】季節の変わり目で不調を感じやすいあなたへ 自律神経のバランスを整える 脳と腸のヨガ
DESCRIPTION:腸をセルフヒーリングして血液循環を促し腸の状態がよくなりリラックスもできストレス解消にもなります。 \n会場名：イルチブレインヨガ大宮スタジオ\n会場住所：さいたま市大宮区大門町2-109大越ビル５階\n参加費：1\,000円\n問合せ電話：048-644-5400\nトレーナー：高山\nその他：持ち物は動きやすい服装、タオル、飲み物をご持参ください。 \n\nオンラインは、zoomで行います。\n申し込み、お支払いは\nホームページからお願い致します。\nhttps://online.ilchibrainyoga.com/studio/saitama/omiya/
URL:https://ilchibrainyoga-omiya.com/event/0311/
LOCATION:イルチブレインヨガ大宮スタジオ\, 埼玉県さいたま市大宮区大門町2-109 大越ビル 5階\, 日本
ATTACH;FMTTYPE=image/jpeg:https://ilchibrainyoga-omiya.com/wp-content/uploads/2021/01/maxresdefault-2.jpg
END:VEVENT
BEGIN:VEVENT
DTSTART;TZID=Asia/Tokyo:20210312T190000
DTEND;TZID=Asia/Tokyo:20210312T210000
DTSTAMP:20260422T111039
CREATED:20210228T115640Z
LAST-MODIFIED:20210228T115640Z
UID:1544-1615575600-1615582800@ilchibrainyoga-omiya.com
SUMMARY:【大宮】季節の変わり目で不調を感じやすいあなたへ 自律神経のバランスを整える 脳と腸のヨガ
DESCRIPTION:腸をセルフヒーリングして血液循環を促し腸の状態がよくなりリラックスもできストレス解消にもなります。 \n会場名：イルチブレインヨガ大宮スタジオ\n会場住所：さいたま市大宮区大門町2-109大越ビル５階\n参加費：1\,000円\n問合せ電話：048-644-5400\nトレーナー：高山\nその他：持ち物は動きやすい服装、タオル、飲み物をご持参ください。 \n\nオンラインは、zoomで行います。\n申し込み、お支払いは\nホームページからお願い致します。\nhttps://online.ilchibrainyoga.com/studio/saitama/omiya/
URL:https://ilchibrainyoga-omiya.com/event/0312/
LOCATION:イルチブレインヨガ大宮スタジオ\, 埼玉県さいたま市大宮区大門町2-109 大越ビル 5階\, 日本
ATTACH;FMTTYPE=image/jpeg:https://ilchibrainyoga-omiya.com/wp-content/uploads/2021/01/maxresdefault-2.jpg
END:VEVENT
BEGIN:VEVENT
DTSTART;TZID=Asia/Tokyo:20210316T100000
DTEND;TZID=Asia/Tokyo:20210316T120000
DTSTAMP:20260422T111039
CREATED:20210228T120358Z
LAST-MODIFIED:20210228T120358Z
UID:1546-1615888800-1615896000@ilchibrainyoga-omiya.com
SUMMARY:【大宮】季節の変わり目で不調を感じやすいあなたへ 自律神経のバランスを整える 脳と腸のヨガ
DESCRIPTION:腸をセルフヒーリングして血液循環を促し腸の状態がよくなりリラックスもできストレス解消にもなります。 \n会場名：イルチブレインヨガ大宮スタジオ\n会場住所：さいたま市大宮区大門町2-109大越ビル５階\n参加費：1\,000円\n問合せ電話：048-644-5400\nトレーナー：高山\nその他：持ち物は動きやすい服装、タオル、飲み物をご持参ください。 \n\nオンラインは、zoomで行います。\n申し込み、お支払いは\nホームページからお願い致します。\nhttps://online.ilchibrainyoga.com/studio/saitama/omiya/
URL:https://ilchibrainyoga-omiya.com/event/0316/
LOCATION:イルチブレインヨガ大宮スタジオ\, 埼玉県さいたま市大宮区大門町2-109 大越ビル 5階\, 日本
ATTACH;FMTTYPE=image/jpeg:https://ilchibrainyoga-omiya.com/wp-content/uploads/2021/01/maxresdefault-2.jpg
END:VEVENT
BEGIN:VEVENT
DTSTART;TZID=Asia/Tokyo:20210317T140000
DTEND;TZID=Asia/Tokyo:20210317T160000
DTSTAMP:20260422T111039
CREATED:20210228T120657Z
LAST-MODIFIED:20210228T120657Z
UID:1549-1615989600-1615996800@ilchibrainyoga-omiya.com
SUMMARY:【大宮】季節の変わり目で不調を感じやすいあなたへ 自律神経のバランスを整える 脳と腸のヨガ
DESCRIPTION:腸をセルフヒーリングして血液循環を促し腸の状態がよくなりリラックスもできストレス解消にもなります。 \n会場名：イルチブレインヨガ大宮スタジオ\n会場住所：さいたま市大宮区大門町2-109大越ビル５階\n参加費：1\,000円\n問合せ電話：048-644-5400\nトレーナー：高山\nその他：持ち物は動きやすい服装、タオル、飲み物をご持参ください。 \n\nオンラインは、zoomで行います。\n申し込み、お支払いは\nホームページからお願い致します。\nhttps://online.ilchibrainyoga.com/studio/saitama/omiya/
URL:https://ilchibrainyoga-omiya.com/event/0317-2/
LOCATION:イルチブレインヨガ大宮スタジオ\, 埼玉県さいたま市大宮区大門町2-109 大越ビル 5階\, 日本
ATTACH;FMTTYPE=image/jpeg:https://ilchibrainyoga-omiya.com/wp-content/uploads/2021/01/maxresdefault-2.jpg
END:VEVENT
BEGIN:VEVENT
DTSTART;TZID=Asia/Tokyo:20210320T140000
DTEND;TZID=Asia/Tokyo:20210320T160000
DTSTAMP:20260422T111039
CREATED:20210228T120526Z
LAST-MODIFIED:20210228T120753Z
UID:1550-1616248800-1616256000@ilchibrainyoga-omiya.com
SUMMARY:【大宮】季節の変わり目で不調を感じやすいあなたへ 自律神経のバランスを整える 脳と腸のヨガ
DESCRIPTION:腸をセルフヒーリングして血液循環を促し腸の状態がよくなりリラックスもできストレス解消にもなります。 \n会場名：イルチブレインヨガ大宮スタジオ\n会場住所：さいたま市大宮区大門町2-109大越ビル５階\n参加費：1\,000円\n問合せ電話：048-644-5400\nトレーナー：高山\nその他：持ち物は動きやすい服装、タオル、飲み物をご持参ください。 \n\nオンラインは、zoomで行います。\n申し込み、お支払いは\nホームページからお願い致します。\nhttps://online.ilchibrainyoga.com/studio/saitama/omiya/
URL:https://ilchibrainyoga-omiya.com/event/0320/
LOCATION:イルチブレインヨガ大宮スタジオ\, 埼玉県さいたま市大宮区大門町2-109 大越ビル 5階\, 日本
ATTACH;FMTTYPE=image/jpeg:https://ilchibrainyoga-omiya.com/wp-content/uploads/2021/01/maxresdefault-2.jpg
END:VEVENT
BEGIN:VEVENT
DTSTART;TZID=Asia/Tokyo:20210321T100000
DTEND;TZID=Asia/Tokyo:20210321T120000
DTSTAMP:20260422T111039
CREATED:20210228T120853Z
LAST-MODIFIED:20210228T120853Z
UID:1552-1616320800-1616328000@ilchibrainyoga-omiya.com
SUMMARY:【大宮】季節の変わり目で不調を感じやすいあなたへ 自律神経のバランスを整える 脳と腸のヨガ
DESCRIPTION:腸をセルフヒーリングして血液循環を促し腸の状態がよくなりリラックスもできストレス解消にもなります。 \n会場名：イルチブレインヨガ大宮スタジオ\n会場住所：さいたま市大宮区大門町2-109大越ビル５階\n参加費：1\,000円\n問合せ電話：048-644-5400\nトレーナー：高山\nその他：持ち物は動きやすい服装、タオル、飲み物をご持参ください。 \n\nオンラインは、zoomで行います。\n申し込み、お支払いは\nホームページからお願い致します。\nhttps://online.ilchibrainyoga.com/studio/saitama/omiya/
URL:https://ilchibrainyoga-omiya.com/event/0321/
LOCATION:イルチブレインヨガ大宮スタジオ\, 埼玉県さいたま市大宮区大門町2-109 大越ビル 5階\, 日本
ATTACH;FMTTYPE=image/jpeg:https://ilchibrainyoga-omiya.com/wp-content/uploads/2021/01/maxresdefault-2.jpg
END:VEVENT
BEGIN:VEVENT
DTSTART;TZID=Asia/Tokyo:20210325T140000
DTEND;TZID=Asia/Tokyo:20210325T160000
DTSTAMP:20260422T111039
CREATED:20210228T121121Z
LAST-MODIFIED:20210228T121121Z
UID:1557-1616680800-1616688000@ilchibrainyoga-omiya.com
SUMMARY:【大宮】季節の変わり目で不調を感じやすいあなたへ 自律神経のバランスを整える 脳と腸のヨガ
DESCRIPTION:腸をセルフヒーリングして血液循環を促し腸の状態がよくなりリラックスもできストレス解消にもなります。 \n会場名：イルチブレインヨガ大宮スタジオ\n会場住所：さいたま市大宮区大門町2-109大越ビル５階\n参加費：1\,000円\n問合せ電話：048-644-5400\nトレーナー：高山\nその他：持ち物は動きやすい服装、タオル、飲み物をご持参ください。 \n\nオンラインは、zoomで行います。\n申し込み、お支払いは\nホームページからお願い致します。\nhttps://online.ilchibrainyoga.com/studio/saitama/omiya/
URL:https://ilchibrainyoga-omiya.com/event/0325/
LOCATION:イルチブレインヨガ大宮スタジオ\, 埼玉県さいたま市大宮区大門町2-109 大越ビル 5階\, 日本
ATTACH;FMTTYPE=image/jpeg:https://ilchibrainyoga-omiya.com/wp-content/uploads/2021/01/maxresdefault-2.jpg
END:VEVENT
BEGIN:VEVENT
DTSTART;TZID=Asia/Tokyo:20210326T100000
DTEND;TZID=Asia/Tokyo:20210326T120000
DTSTAMP:20260422T111039
CREATED:20210228T121007Z
LAST-MODIFIED:20210228T121007Z
UID:1555-1616752800-1616760000@ilchibrainyoga-omiya.com
SUMMARY:【大宮】季節の変わり目で不調を感じやすいあなたへ 自律神経のバランスを整える 脳と腸のヨガ
DESCRIPTION:腸をセルフヒーリングして血液循環を促し腸の状態がよくなりリラックスもできストレス解消にもなります。 \n会場名：イルチブレインヨガ大宮スタジオ\n会場住所：さいたま市大宮区大門町2-109大越ビル５階\n参加費：1\,000円\n問合せ電話：048-644-5400\nトレーナー：高山\nその他：持ち物は動きやすい服装、タオル、飲み物をご持参ください。 \n\nオンラインは、zoomで行います。\n申し込み、お支払いは\nホームページからお願い致します。\nhttps://online.ilchibrainyoga.com/studio/saitama/omiya/
URL:https://ilchibrainyoga-omiya.com/event/0326/
LOCATION:イルチブレインヨガ大宮スタジオ\, 埼玉県さいたま市大宮区大門町2-109 大越ビル 5階\, 日本
ATTACH;FMTTYPE=image/jpeg:https://ilchibrainyoga-omiya.com/wp-content/uploads/2021/01/maxresdefault-2.jpg
END:VEVENT
BEGIN:VEVENT
DTSTART;TZID=Asia/Tokyo:20210406T140000
DTEND;TZID=Asia/Tokyo:20210406T160000
DTSTAMP:20260422T111039
CREATED:20210403T115730Z
LAST-MODIFIED:20210403T115730Z
UID:1662-1617717600-1617724800@ilchibrainyoga-omiya.com
SUMMARY:【大宮】脳腸活性トレーニング体験会
DESCRIPTION:腸のヨガとリラックス瞑想で理想の自分に！体の変化を体感してください♪ \n会場名：イルチブレインヨガ大宮スタジオ\n会場住所：さいたま市大宮区大門町2-109大越ビル５階\n参加費：1\,000円\n問合せ電話：048-644-5400\nトレーナー：高山\nその他：持ち物は動きやすい服装、タオル、飲み物をご持参ください。 \n\nオンラインでも体験できます！（zoom使用）\n申し込み、お支払いは\nホームページからお願い致します。\nhttps://online.ilchibrainyoga.com/studio/saitama/omiya/
URL:https://ilchibrainyoga-omiya.com/event/04/
LOCATION:イルチブレインヨガ大宮スタジオ\, 埼玉県さいたま市大宮区大門町2-109 大越ビル 5階\, 日本
ATTACH;FMTTYPE=image/jpeg:https://ilchibrainyoga-omiya.com/wp-content/uploads/2020/11/21b4eb537cf579ef37821b1653e61d20_original.jpg
END:VEVENT
BEGIN:VEVENT
DTSTART;TZID=Asia/Tokyo:20210406T190000
DTEND;TZID=Asia/Tokyo:20210406T210000
DTSTAMP:20260422T111039
CREATED:20210403T115847Z
LAST-MODIFIED:20210403T115847Z
UID:1664-1617735600-1617742800@ilchibrainyoga-omiya.com
SUMMARY:【大宮】脳腸活性トレーニング体験会
DESCRIPTION:腸のヨガとリラックス瞑想で理想の自分に！体の変化を体感してください♪ \n会場名：イルチブレインヨガ大宮スタジオ\n会場住所：さいたま市大宮区大門町2-109大越ビル５階\n参加費：1\,000円\n問合せ電話：048-644-5400\nトレーナー：高山\nその他：持ち物は動きやすい服装、タオル、飲み物をご持参ください。 \n\nオンラインでも体験できます！（zoom使用）\n申し込み、お支払いは\nホームページからお願い致します。\nhttps://online.ilchibrainyoga.com/studio/saitama/omiya/
URL:https://ilchibrainyoga-omiya.com/event/0406/
LOCATION:イルチブレインヨガ大宮スタジオ\, 埼玉県さいたま市大宮区大門町2-109 大越ビル 5階\, 日本
ATTACH;FMTTYPE=image/jpeg:https://ilchibrainyoga-omiya.com/wp-content/uploads/2020/11/21b4eb537cf579ef37821b1653e61d20_original.jpg
END:VEVENT
BEGIN:VEVENT
DTSTART;TZID=Asia/Tokyo:20210408T140000
DTEND;TZID=Asia/Tokyo:20210408T160000
DTSTAMP:20260422T111039
CREATED:20210403T115956Z
LAST-MODIFIED:20210403T115956Z
UID:1666-1617890400-1617897600@ilchibrainyoga-omiya.com
SUMMARY:【大宮】脳腸活性トレーニング体験会
DESCRIPTION:腸のヨガとリラックス瞑想で理想の自分に！体の変化を体感してください♪ \n会場名：イルチブレインヨガ大宮スタジオ\n会場住所：さいたま市大宮区大門町2-109大越ビル５階\n参加費：1\,000円\n問合せ電話：048-644-5400\nトレーナー：高山\nその他：持ち物は動きやすい服装、タオル、飲み物をご持参ください。 \n\nオンラインでも体験できます！（zoom使用）\n申し込み、お支払いは\nホームページからお願い致します。\nhttps://online.ilchibrainyoga.com/studio/saitama/omiya/
URL:https://ilchibrainyoga-omiya.com/event/0408/
LOCATION:イルチブレインヨガ大宮スタジオ\, 埼玉県さいたま市大宮区大門町2-109 大越ビル 5階\, 日本
ATTACH;FMTTYPE=image/jpeg:https://ilchibrainyoga-omiya.com/wp-content/uploads/2020/11/21b4eb537cf579ef37821b1653e61d20_original.jpg
END:VEVENT
BEGIN:VEVENT
DTSTART;TZID=Asia/Tokyo:20210409T190000
DTEND;TZID=Asia/Tokyo:20210409T210000
DTSTAMP:20260422T111039
CREATED:20210403T120118Z
LAST-MODIFIED:20210403T120118Z
UID:1668-1617994800-1618002000@ilchibrainyoga-omiya.com
SUMMARY:【大宮】脳腸活性トレーニング体験会
DESCRIPTION:腸のヨガとリラックス瞑想で理想の自分に！体の変化を体感してください♪ \n会場名：イルチブレインヨガ大宮スタジオ\n会場住所：さいたま市大宮区大門町2-109大越ビル５階\n参加費：1\,000円\n問合せ電話：048-644-5400\nトレーナー：高山\nその他：持ち物は動きやすい服装、タオル、飲み物をご持参ください。 \n\nオンラインでも体験できます！（zoom使用）\n申し込み、お支払いは\nホームページからお願い致します。\nhttps://online.ilchibrainyoga.com/studio/saitama/omiya/
URL:https://ilchibrainyoga-omiya.com/event/0409/
LOCATION:イルチブレインヨガ大宮スタジオ\, 埼玉県さいたま市大宮区大門町2-109 大越ビル 5階\, 日本
ATTACH;FMTTYPE=image/jpeg:https://ilchibrainyoga-omiya.com/wp-content/uploads/2020/11/21b4eb537cf579ef37821b1653e61d20_original.jpg
END:VEVENT
BEGIN:VEVENT
DTSTART;TZID=Asia/Tokyo:20210411T190000
DTEND;TZID=Asia/Tokyo:20210411T210000
DTSTAMP:20260422T111039
CREATED:20210403T120229Z
LAST-MODIFIED:20210403T120229Z
UID:1670-1618167600-1618174800@ilchibrainyoga-omiya.com
SUMMARY:【大宮】脳腸活性トレーニング体験会
DESCRIPTION:腸のヨガとリラックス瞑想で理想の自分に！体の変化を体感してください♪ \n会場名：イルチブレインヨガ大宮スタジオ\n会場住所：さいたま市大宮区大門町2-109大越ビル５階\n参加費：1\,000円\n問合せ電話：048-644-5400\nトレーナー：高山\nその他：持ち物は動きやすい服装、タオル、飲み物をご持参ください。 \n\nオンラインでも体験できます！（zoom使用）\n申し込み、お支払いは\nホームページからお願い致します。\nhttps://online.ilchibrainyoga.com/studio/saitama/omiya/
URL:https://ilchibrainyoga-omiya.com/event/0411/
LOCATION:イルチブレインヨガ大宮スタジオ\, 埼玉県さいたま市大宮区大門町2-109 大越ビル 5階\, 日本
ATTACH;FMTTYPE=image/jpeg:https://ilchibrainyoga-omiya.com/wp-content/uploads/2020/11/21b4eb537cf579ef37821b1653e61d20_original.jpg
END:VEVENT
BEGIN:VEVENT
DTSTART;TZID=Asia/Tokyo:20210413T190000
DTEND;TZID=Asia/Tokyo:20210413T220000
DTSTAMP:20260422T111039
CREATED:20210403T120942Z
LAST-MODIFIED:20210403T120942Z
UID:1674-1618340400-1618351200@ilchibrainyoga-omiya.com
SUMMARY:【大宮】腸活ヨガ体験会
DESCRIPTION:話題の「腸活」ヨガはじめませんか？ \n腸を整えていつまでも元気で \n若々しくいたいあなたへ♪ \n肩や腰の筋肉がこりやすい、イライラの原因は、腸にあり！どなたにもできる簡単な体操や呼吸法、腸をほぐすことで、効率よく脳を活性化できます。体も心も脳もスッキリしましょう！ \n会場名：イルチブレインヨガ大宮スタジオ\n会場住所：さいたま市大宮区大門町2-109大越ビル５階\n参加費：1\,000円\n問合せ電話：048-644-5400\nトレーナー：高山\nその他：持ち物は動きやすい服装、タオル、飲み物をご持参ください。 \n\nオンラインでも体験できます！（zoom使用）\n申し込み、お支払いは\nホームページからお願い致します。\nhttps://online.ilchibrainyoga.com/studio/saitama/omiya/
URL:https://ilchibrainyoga-omiya.com/event/0413/
LOCATION:イルチブレインヨガ大宮スタジオ\, 埼玉県さいたま市大宮区大門町2-109 大越ビル 5階\, 日本
ATTACH;FMTTYPE=image/jpeg:https://ilchibrainyoga-omiya.com/wp-content/uploads/2020/11/21b4eb537cf579ef37821b1653e61d20_original.jpg
END:VEVENT
BEGIN:VEVENT
DTSTART;TZID=Asia/Tokyo:20210415T100000
DTEND;TZID=Asia/Tokyo:20210415T120000
DTSTAMP:20260422T111039
CREATED:20210403T120835Z
LAST-MODIFIED:20210403T120835Z
UID:1672-1618480800-1618488000@ilchibrainyoga-omiya.com
SUMMARY:【大宮】腸活ヨガ体験会
DESCRIPTION:話題の「腸活」ヨガはじめませんか？ \n腸を整えていつまでも元気で \n若々しくいたいあなたへ♪ \n肩や腰の筋肉がこりやすい、イライラの原因は、腸にあり！どなたにもできる簡単な体操や呼吸法、腸をほぐすことで、効率よく脳を活性化できます。体も心も脳もスッキリしましょう！ \n会場名：イルチブレインヨガ大宮スタジオ\n会場住所：さいたま市大宮区大門町2-109大越ビル５階\n参加費：1\,000円\n問合せ電話：048-644-5400\nトレーナー：高山\nその他：持ち物は動きやすい服装、タオル、飲み物をご持参ください。 \n\nオンラインでも体験できます！（zoom使用）\n申し込み、お支払いは\nホームページからお願い致します。\nhttps://online.ilchibrainyoga.com/studio/saitama/omiya/
URL:https://ilchibrainyoga-omiya.com/event/0415/
LOCATION:イルチブレインヨガ大宮スタジオ\, 埼玉県さいたま市大宮区大門町2-109 大越ビル 5階\, 日本
ATTACH;FMTTYPE=image/jpeg:https://ilchibrainyoga-omiya.com/wp-content/uploads/2020/11/21b4eb537cf579ef37821b1653e61d20_original.jpg
END:VEVENT
BEGIN:VEVENT
DTSTART;TZID=Asia/Tokyo:20210417T100000
DTEND;TZID=Asia/Tokyo:20210417T120000
DTSTAMP:20260422T111039
CREATED:20210403T121110Z
LAST-MODIFIED:20210403T121110Z
UID:1676-1618653600-1618660800@ilchibrainyoga-omiya.com
SUMMARY:【大宮】腸活ヨガ体験会
DESCRIPTION:話題の「腸活」ヨガはじめませんか？ \n腸を整えていつまでも元気で \n若々しくいたいあなたへ♪ \n肩や腰の筋肉がこりやすい、イライラの原因は、腸にあり！どなたにもできる簡単な体操や呼吸法、腸をほぐすことで、効率よく脳を活性化できます。体も心も脳もスッキリしましょう！ \n会場名：イルチブレインヨガ大宮スタジオ\n会場住所：さいたま市大宮区大門町2-109大越ビル５階\n参加費：1\,000円\n問合せ電話：048-644-5400\nトレーナー：高山\nその他：持ち物は動きやすい服装、タオル、飲み物をご持参ください。 \n\nオンラインでも体験できます！（zoom使用）\n申し込み、お支払いは\nホームページからお願い致します。\nhttps://online.ilchibrainyoga.com/studio/saitama/omiya/
URL:https://ilchibrainyoga-omiya.com/event/0417/
LOCATION:イルチブレインヨガ大宮スタジオ\, 埼玉県さいたま市大宮区大門町2-109 大越ビル 5階\, 日本
ATTACH;FMTTYPE=image/jpeg:https://ilchibrainyoga-omiya.com/wp-content/uploads/2020/11/21b4eb537cf579ef37821b1653e61d20_original.jpg
END:VEVENT
BEGIN:VEVENT
DTSTART;TZID=Asia/Tokyo:20210421T140000
DTEND;TZID=Asia/Tokyo:20210421T160000
DTSTAMP:20260422T111039
CREATED:20210403T121305Z
LAST-MODIFIED:20210403T121305Z
UID:1678-1619013600-1619020800@ilchibrainyoga-omiya.com
SUMMARY:【大宮】腸活ヨガ体験会
DESCRIPTION:話題の「腸活」ヨガはじめませんか？ \n腸を整えていつまでも元気で \n若々しくいたいあなたへ♪ \n肩や腰の筋肉がこりやすい、イライラの原因は、腸にあり！どなたにもできる簡単な体操や呼吸法、腸をほぐすことで、効率よく脳を活性化できます。体も心も脳もスッキリしましょう！ \n会場名：イルチブレインヨガ大宮スタジオ\n会場住所：さいたま市大宮区大門町2-109大越ビル５階\n参加費：1\,000円\n問合せ電話：048-644-5400\nトレーナー：高山\nその他：持ち物は動きやすい服装、タオル、飲み物をご持参ください。 \n\nオンラインでも体験できます！（zoom使用）\n申し込み、お支払いは\nホームページからお願い致します。\nhttps://online.ilchibrainyoga.com/studio/saitama/omiya/
URL:https://ilchibrainyoga-omiya.com/event/0421/
LOCATION:イルチブレインヨガ大宮スタジオ\, 埼玉県さいたま市大宮区大門町2-109 大越ビル 5階\, 日本
ATTACH;FMTTYPE=image/jpeg:https://ilchibrainyoga-omiya.com/wp-content/uploads/2020/11/21b4eb537cf579ef37821b1653e61d20_original.jpg
END:VEVENT
BEGIN:VEVENT
DTSTART;TZID=Asia/Tokyo:20210423T190000
DTEND;TZID=Asia/Tokyo:20210423T210000
DTSTAMP:20260422T111039
CREATED:20210403T121406Z
LAST-MODIFIED:20210403T121406Z
UID:1680-1619204400-1619211600@ilchibrainyoga-omiya.com
SUMMARY:【大宮】腸活ヨガ体験会
DESCRIPTION:話題の「腸活」ヨガはじめませんか？ \n腸を整えていつまでも元気で \n若々しくいたいあなたへ♪ \n肩や腰の筋肉がこりやすい、イライラの原因は、腸にあり！どなたにもできる簡単な体操や呼吸法、腸をほぐすことで、効率よく脳を活性化できます。体も心も脳もスッキリしましょう！ \n会場名：イルチブレインヨガ大宮スタジオ\n会場住所：さいたま市大宮区大門町2-109大越ビル５階\n参加費：1\,000円\n問合せ電話：048-644-5400\nトレーナー：高山\nその他：持ち物は動きやすい服装、タオル、飲み物をご持参ください。 \n\nオンラインでも体験できます！（zoom使用）\n申し込み、お支払いは\nホームページからお願い致します。\nhttps://online.ilchibrainyoga.com/studio/saitama/omiya/
URL:https://ilchibrainyoga-omiya.com/event/0423/
LOCATION:イルチブレインヨガ大宮スタジオ\, 埼玉県さいたま市大宮区大門町2-109 大越ビル 5階\, 日本
ATTACH;FMTTYPE=image/jpeg:https://ilchibrainyoga-omiya.com/wp-content/uploads/2020/11/21b4eb537cf579ef37821b1653e61d20_original.jpg
END:VEVENT
BEGIN:VEVENT
DTSTART;TZID=Asia/Tokyo:20210427T140000
DTEND;TZID=Asia/Tokyo:20210427T160000
DTSTAMP:20260422T111039
CREATED:20210403T121534Z
LAST-MODIFIED:20210403T121534Z
UID:1682-1619532000-1619539200@ilchibrainyoga-omiya.com
SUMMARY:【大宮】腸活ヨガ体験会
DESCRIPTION:話題の「腸活」ヨガはじめませんか？ \n腸を整えていつまでも元気で \n若々しくいたいあなたへ♪ \n肩や腰の筋肉がこりやすい、イライラの原因は、腸にあり！どなたにもできる簡単な体操や呼吸法、腸をほぐすことで、効率よく脳を活性化できます。体も心も脳もスッキリしましょう！ \n会場名：イルチブレインヨガ大宮スタジオ\n会場住所：さいたま市大宮区大門町2-109大越ビル５階\n参加費：1\,000円\n問合せ電話：048-644-5400\nトレーナー：高山\nその他：持ち物は動きやすい服装、タオル、飲み物をご持参ください。 \n\nオンラインでも体験できます！（zoom使用）\n申し込み、お支払いは\nホームページからお願い致します。\nhttps://online.ilchibrainyoga.com/studio/saitama/omiya/
URL:https://ilchibrainyoga-omiya.com/event/0427/
LOCATION:イルチブレインヨガ大宮スタジオ\, 埼玉県さいたま市大宮区大門町2-109 大越ビル 5階\, 日本
ATTACH;FMTTYPE=image/jpeg:https://ilchibrainyoga-omiya.com/wp-content/uploads/2020/11/21b4eb537cf579ef37821b1653e61d20_original.jpg
END:VEVENT
BEGIN:VEVENT
DTSTART;TZID=Asia/Tokyo:20210429T100000
DTEND;TZID=Asia/Tokyo:20210429T120000
DTSTAMP:20260422T111039
CREATED:20210403T121700Z
LAST-MODIFIED:20210403T121700Z
UID:1684-1619690400-1619697600@ilchibrainyoga-omiya.com
SUMMARY:【大宮】腸活ヨガ体験会
DESCRIPTION:話題の「腸活」ヨガはじめませんか？ \n腸を整えていつまでも元気で \n若々しくいたいあなたへ♪ \n肩や腰の筋肉がこりやすい、イライラの原因は、腸にあり！どなたにもできる簡単な体操や呼吸法、腸をほぐすことで、効率よく脳を活性化できます。体も心も脳もスッキリしましょう！ \n会場名：イルチブレインヨガ大宮スタジオ\n会場住所：さいたま市大宮区大門町2-109大越ビル５階\n参加費：1\,000円\n問合せ電話：048-644-5400\nトレーナー：高山\nその他：持ち物は動きやすい服装、タオル、飲み物をご持参ください。 \n\nオンラインでも体験できます！（zoom使用）\n申し込み、お支払いは\nホームページからお願い致します。\nhttps://online.ilchibrainyoga.com/studio/saitama/omiya/
URL:https://ilchibrainyoga-omiya.com/event/0429/
LOCATION:イルチブレインヨガ大宮スタジオ\, 埼玉県さいたま市大宮区大門町2-109 大越ビル 5階\, 日本
ATTACH;FMTTYPE=image/jpeg:https://ilchibrainyoga-omiya.com/wp-content/uploads/2020/11/21b4eb537cf579ef37821b1653e61d20_original.jpg
END:VEVENT
BEGIN:VEVENT
DTSTART;TZID=Asia/Tokyo:20210502T100000
DTEND;TZID=Asia/Tokyo:20210502T120000
DTSTAMP:20260422T111039
CREATED:20210429T122733Z
LAST-MODIFIED:20210429T122733Z
UID:1739-1619949600-1619956800@ilchibrainyoga-omiya.com
SUMMARY:【大宮】腸活ヨガ体験会
DESCRIPTION:話題の「腸活」ヨガはじめませんか？ \n腸を整えていつまでも元気で \n若々しくいたいあなたへ♪ \n肩や腰の筋肉がこりやすい、イライラの原因は、腸にあり！どなたにもできる簡単な体操や呼吸法、腸をほぐすことで、効率よく脳を活性化できます。体も心も脳もスッキリしましょう！ \n会場名：イルチブレインヨガ大宮スタジオ\n会場住所：さいたま市大宮区大門町2-109大越ビル５階\n参加費：1\,000円\n問合せ電話：048-644-5400\nトレーナー：高山\nその他：持ち物は動きやすい服装、タオル、飲み物をご持参ください。 \n\nオンラインでも体験できます！（zoom使用）\n申し込み、お支払いは\nホームページからお願い致します。\nhttps://online.ilchibrainyoga.com/studio/saitama/omiya/
URL:https://ilchibrainyoga-omiya.com/event/0502/
LOCATION:イルチブレインヨガ大宮スタジオ\, 埼玉県さいたま市大宮区大門町2-109 大越ビル 5階\, 日本
ATTACH;FMTTYPE=image/jpeg:https://ilchibrainyoga-omiya.com/wp-content/uploads/2020/11/21b4eb537cf579ef37821b1653e61d20_original.jpg
END:VEVENT
END:VCALENDAR