BEGIN:VCALENDAR
VERSION:2.0
PRODID:-//イルチブレインヨガ大宮スタジオ - ECPv6.15.20//NONSGML v1.0//EN
CALSCALE:GREGORIAN
METHOD:PUBLISH
X-WR-CALNAME:イルチブレインヨガ大宮スタジオ
X-ORIGINAL-URL:https://ilchibrainyoga-omiya.com
X-WR-CALDESC:イルチブレインヨガ大宮スタジオ のイベント
REFRESH-INTERVAL;VALUE=DURATION:PT1H
X-Robots-Tag:noindex
X-PUBLISHED-TTL:PT1H
BEGIN:VTIMEZONE
TZID:Asia/Tokyo
BEGIN:STANDARD
TZOFFSETFROM:+0900
TZOFFSETTO:+0900
TZNAME:JST
DTSTART:20140101T000000
END:STANDARD
END:VTIMEZONE
BEGIN:VEVENT
DTSTART;TZID=Asia/Tokyo:20201130T103000
DTEND;TZID=Asia/Tokyo:20201230T213000
DTSTAMP:20260422T111008
CREATED:20201130T124457Z
LAST-MODIFIED:20201130T124457Z
UID:1267-1606732200-1609363800@ilchibrainyoga-omiya.com
SUMMARY:【大宮】腸スッキリヨガ・呼吸瞑想体験会
DESCRIPTION:話題の「腸活」ヨガはじめませんか？ \n腸を整えていつまでも元気で若々しくいたいあなたへ♪ \n肩や腰の筋肉がこりやすい、イライラの原因は、腸にあり！ \nどなたにもできる簡単な体操や呼吸法、腸をほぐすことで、効率よく脳を活性化できます。 \n体も心も脳もスッキリしましょう！ \n\n開催日　時間：\n\n12/1（火）9（水）12（土）16（水）20（日）24（木）10：00～12：00 \n12/2（水）10（木）15（火）18（金）19（土）23（水）14：00～16：00 \n12/3（木）8（火）11（金）17（木）22（火）25（金）19：00～21：00 \n会場名：イルチブレインヨガ大宮スタジオ\n会場住所：さいたま市大宮区大門町\n2-109大越ビル５階\n参加費：1\,000円\n問合せ電話：048-644-5400\nトレーナー：高山\nその他：持ち物は動きやすい服装、\nタオル、飲み物をご準備ください。 \n\nオンラインは、zoomで行います。\n申し込み、お支払いは\nホームページからお願い致します。\nhttps://online.ilchibrainyoga.com/studio/saitama/omiya/
URL:https://ilchibrainyoga-omiya.com/event/202012/
LOCATION:イルチブレインヨガ大宮スタジオ\, 埼玉県さいたま市大宮区大門町2-109 大越ビル 5階\, 日本
ATTACH;FMTTYPE=image/png:https://ilchibrainyoga-omiya.com/wp-content/uploads/2020/10/cho.png
END:VEVENT
BEGIN:VEVENT
DTSTART;TZID=Asia/Tokyo:20201104T103000
DTEND;TZID=Asia/Tokyo:20201104T213000
DTSTAMP:20260422T111008
CREATED:20201030T084515Z
LAST-MODIFIED:20201030T084632Z
UID:1171-1604485800-1604525400@ilchibrainyoga-omiya.com
SUMMARY:【大宮】腸活ヨガ体験会
DESCRIPTION:話題の「腸活」ヨガはじめませんか？ \n腸を整えていつまでも元気で若々しくいたいあなたへ♪ \n肩や腰の筋肉がこりやすい、イライラの原因は、腸にあり！ \nどなたにもできる簡単な体操や呼吸法、腸をほぐすことで、効率よく脳を活性化できます。 \n体も心も脳もスッキリしましょう！ \n\n開催日　時間：\n\n11/5（木）7（土）12（木）17（火）20（金）22（日）24（火）28（土）10：00～12：00 \n11/11（水）18（水）21（土）26（木）29（日）14：00～16：00 \n11/4（水）6（金）10（火）13（金）19（木）25（水）27（金）19：00～21：00 \n会場名：イルチブレインヨガ大宮スタジオ\n会場住所：さいたま市大宮区大門町\n2-109大越ビル５階\n参加費：1\,000円\n問合せ電話：048-644-5400\nトレーナー：高山\nその他：持ち物は動きやすい服装、\nタオル、飲み物をご準備ください。 \n\nオンラインは、zoomで行います。\n申し込み、お支払いは\nホームページからお願い致します。\nhttps://online.ilchibrainyoga.com/studio/saitama/omiya/
URL:https://ilchibrainyoga-omiya.com/event/11/
LOCATION:イルチブレインヨガ大宮スタジオ\, 埼玉県さいたま市大宮区大門町2-109 大越ビル 5階\, 日本
ATTACH;FMTTYPE=image/png:https://ilchibrainyoga-omiya.com/wp-content/uploads/2020/10/cho.png
END:VEVENT
BEGIN:VEVENT
DTSTART;TZID=Asia/Tokyo:20201016T103000
DTEND;TZID=Asia/Tokyo:20201031T213000
DTSTAMP:20260422T111008
CREATED:20201012T134527Z
LAST-MODIFIED:20201012T135143Z
UID:1111-1602844200-1604179800@ilchibrainyoga-omiya.com
SUMMARY:【大宮】腸活ヨガ体験会
DESCRIPTION:話題の「腸活」ヨガはじめませんか？ \n腸を整えていつまでも元気で若々しくいたいあなたへ♪ \n肩や腰の筋肉がこりやすい、イライラの原因は、腸にあり！ \nどなたにもできる簡単な体操や呼吸法、腸をほぐすことで、効率よく脳を活性化できます。 \n体も心も脳もスッキリしましょう！ \n\n開催日　時間：\n\n10/18（日）21（水）27（火）31（土）10：00～12：00 \n10/22（木）25（日）28（水）30（金）14：00～16：00 \n10/16（金）20（火）23（金）29（木）19：00～21：00 \n会場名：イルチブレインヨガ大宮スタジオ\n会場住所：さいたま市大宮区大門町\n2-109大越ビル５階\n参加費：1\,000円\n問合せ電話：048-644-5400\nトレーナー：高山\nその他：持ち物は動きやすい服装、\nタオル、飲み物をご準備ください。 \n\nオンラインは、zoomで行います。\n申し込み、お支払いは\nホームページからお願い致します。\nhttps://online.ilchibrainyoga.com/studio/saitama/omiya/
URL:https://ilchibrainyoga-omiya.com/event/1015/
LOCATION:イルチブレインヨガ大宮スタジオ\, 埼玉県さいたま市大宮区大門町2-109 大越ビル 5階\, 日本
ATTACH;FMTTYPE=image/png:https://ilchibrainyoga-omiya.com/wp-content/uploads/2020/10/cho.png
END:VEVENT
BEGIN:VEVENT
DTSTART;TZID=Asia/Tokyo:20201001T103000
DTEND;TZID=Asia/Tokyo:20201015T213000
DTSTAMP:20260422T111008
CREATED:20200930T065144Z
LAST-MODIFIED:20200930T065144Z
UID:1067-1601548200-1602797400@ilchibrainyoga-omiya.com
SUMMARY:【大宮】元気な腸が肩こりを防ぐ！腸すっきり体操体験会
DESCRIPTION:気温が下がってくると血管が収縮して腸の血行も悪くなり、腸が硬くなってきます。\nまた、座りっぱなしや立ちっぱなしの仕事をしたりして、長時間にわたり肩甲骨や上腕を動かさないという人は要注意。肩まわりの筋肉に老廃物が蓄積されやすくなります。\n「腸スッキリ体操」体験会では、腸運動を中心に体をほぐす体操を行います。腸を刺激し、ほぐすことで、毒素がたまりにくい体質への転換を促します。\n開催日：10月15日（木）まで\n時間：14：00～ 19：00～\n会場名：イルチブレインヨガ大宮スタジオ\n会場住所：さいたま市大宮区大門町\n2-109大越ビル５階\n参加費：1\,000円\n問合せ電話：048-644-5400\nトレーナー：高山\nその他：持ち物は動きやすい服装、\nタオル、飲み物をご準備ください。\nオンラインは、zoomで行います。\n申し込み、お支払いは\nホームページからお願い致します。\nhttps://online.ilchibrainyoga.com/studio/saitama/omiya/
URL:https://ilchibrainyoga-omiya.com/event/202010/
LOCATION:イルチブレインヨガ大宮スタジオ\, 埼玉県さいたま市大宮区大門町2-109 大越ビル 5階\, 日本
ATTACH;FMTTYPE=image/jpeg:https://ilchibrainyoga-omiya.com/wp-content/uploads/2020/09/120300467_165849295192722_4527688486538216162_o.jpg
END:VEVENT
BEGIN:VEVENT
DTSTART;VALUE=DATE:20200901
DTEND;VALUE=DATE:20201001
DTSTAMP:20260422T111008
CREATED:20200831T113436Z
LAST-MODIFIED:20200831T113436Z
UID:954-1598918400-1601510399@ilchibrainyoga-omiya.com
SUMMARY:腸・脳活性化ヨガ体験会
DESCRIPTION:内容：免疫細胞の70%は腸でつくられるといわれますが、この免疫細胞は体内に侵入してきたウィルスの増殖をとめる役割をします。免疫力を高めるには腸の働きをよくするのが必須！そんな腸の動きを活性化させるのが、イルチブレインヨガのエクササイズと呼吸･瞑想。全身が活性化するので、ストレスの解消にも役立ちます。 \n開催日：9月1日（火）～30日（水）\n時間：10：00～ 14：00～ 19：00～\n会場名：イルチブレインヨガ大宮スタジオ\n会場住所：さいたま市大宮区大門町2-109大越ビル5階\n参加費：1\,000円\n問合せ電話：048-644-5400\nトレーナー：高山\nその他：持ち物は動きやすい服装、タオル、飲み物をご持参ください。 \nオンラインの場合【使用するオンライン会議システム】：zoom
URL:https://ilchibrainyoga-omiya.com/event/09/
LOCATION:イルチブレインヨガ大宮スタジオ\, 埼玉県さいたま市大宮区大門町2-109 大越ビル 5階\, 日本
ATTACH;FMTTYPE=image/png:https://ilchibrainyoga-omiya.com/wp-content/uploads/2020/08/1-e1598873613246.png
END:VEVENT
BEGIN:VEVENT
DTSTART;TZID=Asia/Tokyo:20200805T100000
DTEND;TZID=Asia/Tokyo:20200830T210000
DTSTAMP:20260422T111008
CREATED:20200801T065600Z
LAST-MODIFIED:20200801T070241Z
UID:852-1596621600-1598821200@ilchibrainyoga-omiya.com
SUMMARY:丹田呼吸体験会
DESCRIPTION:内容：イルチブレインヨガのエクササイズは、丹田を鍛えること、エネルギーの感覚を育ててゆくことにポイントを置いています。体のチカラと直結する丹田を鍛えることで、体だけでなく、心も、そして考え方も強く明るくなってゆきます。また、エネルギーの感覚を養うことで、集中力や洞察力が増し自分自身を客観的に見つめるチカラがついてきます。\n開催日：8月5日（水）7日（金）18日（火）20日（木）22日（土）26日（水）28日（金）30日（日）\n時間：10：00～　14：00～　19：00～\n会場名：イルチブレインヨガ大宮スタジオ\n会場住所：さいたま市大宮区大門町2-109大越ビル５階\n参加費：1\,000円\n問合せ電話：048-644-5400\nトレーナー：高山\nその他：持ち物は動きやすい服装、タオル、飲み物をご持参ください。 \nオンラインの場合【使用するオンライン会議システム】：zoom
URL:https://ilchibrainyoga-omiya.com/event/tanden/
LOCATION:イルチブレインヨガ大宮スタジオ\, 埼玉県さいたま市大宮区大門町2-109 大越ビル 5階\, 日本
ATTACH;FMTTYPE=image/png:https://ilchibrainyoga-omiya.com/wp-content/uploads/2020/08/94926753b316fb988d4286d0e0378f78.png
END:VEVENT
BEGIN:VEVENT
DTSTART;TZID=Asia/Tokyo:20200804T100000
DTEND;TZID=Asia/Tokyo:20200829T210000
DTSTAMP:20260422T111008
CREATED:20200801T065200Z
LAST-MODIFIED:20200801T070100Z
UID:849-1596535200-1598734800@ilchibrainyoga-omiya.com
SUMMARY:脳と腸が目覚めるヨガ
DESCRIPTION:内容：話題の「腸の健康」はじめませんか？腸は体と心の状態を映す鏡です。今すぐ始めたい腸の健康法を大公開します！\n開催日：8月4日（火）6日（木）8日（土）12日（水）18日（火）20日（木）22日（土）\n19日（水）21日（金）23日（日）25日（火）27日（木）29日（土）\n時間：10：00～　14：00～　19：00～\n会場名：イルチブレインヨガ大宮スタジオ\n会場住所：さいたま市大宮区大門町2-109大越ビル５階\n参加費：1\,000円\n問合せ電話：048-644-5400\nトレーナー：高山\nその他：持ち物は動きやすい服装、タオル、飲み物をご持参ください。 \nオンラインの場合【使用するオンライン会議システム】：zoom
URL:https://ilchibrainyoga-omiya.com/event/chou08/
LOCATION:イルチブレインヨガ大宮スタジオ\, 埼玉県さいたま市大宮区大門町2-109 大越ビル 5階\, 日本
ATTACH;FMTTYPE=image/png:https://ilchibrainyoga-omiya.com/wp-content/uploads/2020/08/385be5bfb71e53f717a2f7bc590d9d61.png
END:VEVENT
BEGIN:VEVENT
DTSTART;TZID=Asia/Tokyo:20200731T100000
DTEND;TZID=Asia/Tokyo:20200731T210000
DTSTAMP:20260422T111008
CREATED:20200701T133434Z
LAST-MODIFIED:20200701T133434Z
UID:739-1596189600-1596229200@ilchibrainyoga-omiya.com
SUMMARY:深い呼吸していますか？丹田呼吸を体験しよう！
DESCRIPTION:エネルギーの中心、丹田を活性化することに\nポイントを置いています。丹田呼吸をすると\n体内に溜まった老廃物が流れやすくなり、\n緊張やイライラなどのストレスが軽減します。 \n～丹田呼吸ヨガ体験会～\n体験時間：10時～　14時～　19時～\n体験費:2000円＊税込　★要予約 \n体験予約いつでも受付中！\nイルチブレインヨガ大宮スタジオ\n048-644-5400
URL:https://ilchibrainyoga-omiya.com/event/0731/
LOCATION:イルチブレインヨガ大宮スタジオ\, 埼玉県さいたま市大宮区大門町2-109 大越ビル 5階\, 日本
ATTACH;FMTTYPE=image/png:https://ilchibrainyoga-omiya.com/wp-content/uploads/2020/07/1.png
END:VEVENT
BEGIN:VEVENT
DTSTART;TZID=Asia/Tokyo:20200729T100000
DTEND;TZID=Asia/Tokyo:20200729T210000
DTSTAMP:20260422T111008
CREATED:20200701T132810Z
LAST-MODIFIED:20200701T132810Z
UID:737-1596016800-1596056400@ilchibrainyoga-omiya.com
SUMMARY:深い呼吸していますか？丹田呼吸を体験しよう！
DESCRIPTION:エネルギーの中心、丹田を活性化することに\nポイントを置いています。丹田呼吸をすると\n体内に溜まった老廃物が流れやすくなり、\n緊張やイライラなどのストレスが軽減します。 \n～丹田呼吸ヨガ体験会～\n体験時間：10時～　14時～　19時～\n体験費:2000円＊税込　★要予約 \n体験予約いつでも受付中！\nイルチブレインヨガ大宮スタジオ\n048-644-5400
URL:https://ilchibrainyoga-omiya.com/event/0729/
LOCATION:イルチブレインヨガ大宮スタジオ\, 埼玉県さいたま市大宮区大門町2-109 大越ビル 5階\, 日本
ATTACH;FMTTYPE=image/png:https://ilchibrainyoga-omiya.com/wp-content/uploads/2020/07/1.png
END:VEVENT
BEGIN:VEVENT
DTSTART;TZID=Asia/Tokyo:20200726T100000
DTEND;TZID=Asia/Tokyo:20200726T210000
DTSTAMP:20260422T111008
CREATED:20200701T130755Z
LAST-MODIFIED:20200701T130755Z
UID:732-1595757600-1595797200@ilchibrainyoga-omiya.com
SUMMARY:深い呼吸していますか？丹田呼吸を体験しよう！
DESCRIPTION:エネルギーの中心、丹田を活性化することに\nポイントを置いています。丹田呼吸をすると\n体内に溜まった老廃物が流れやすくなり、\n緊張やイライラなどのストレスが軽減します。 \n～丹田呼吸ヨガ体験会～\n体験時間：10時～　14時～　19時～\n体験費:2000円＊税込　★要予約 \n体験予約いつでも受付中！\nイルチブレインヨガ大宮スタジオ\n048-644-5400
URL:https://ilchibrainyoga-omiya.com/event/0726/
LOCATION:イルチブレインヨガ大宮スタジオ\, 埼玉県さいたま市大宮区大門町2-109 大越ビル 5階\, 日本
ATTACH;FMTTYPE=image/png:https://ilchibrainyoga-omiya.com/wp-content/uploads/2020/07/1.png
END:VEVENT
BEGIN:VEVENT
DTSTART;TZID=Asia/Tokyo:20200723T100000
DTEND;TZID=Asia/Tokyo:20200723T210000
DTSTAMP:20260422T111008
CREATED:20200701T130519Z
LAST-MODIFIED:20200701T130652Z
UID:730-1595498400-1595538000@ilchibrainyoga-omiya.com
SUMMARY:深い呼吸していますか？丹田呼吸を体験しよう！
DESCRIPTION:エネルギーの中心、丹田を活性化することに\nポイントを置いています。丹田呼吸をすると\n体内に溜まった老廃物が流れやすくなり、\n緊張やイライラなどのストレスが軽減します。 \n～丹田呼吸ヨガ体験会～\n体験時間：10時～　14時～　19時～\n体験費:2000円＊税込　★要予約 \n体験予約いつでも受付中！\nイルチブレインヨガ大宮スタジオ\n048-644-5400
URL:https://ilchibrainyoga-omiya.com/event/0723/
LOCATION:イルチブレインヨガ大宮スタジオ\, 埼玉県さいたま市大宮区大門町2-109 大越ビル 5階\, 日本
ATTACH;FMTTYPE=image/png:https://ilchibrainyoga-omiya.com/wp-content/uploads/2020/07/1.png
END:VEVENT
BEGIN:VEVENT
DTSTART;TZID=Asia/Tokyo:20200721T100000
DTEND;TZID=Asia/Tokyo:20200721T210000
DTSTAMP:20260422T111008
CREATED:20200701T130955Z
LAST-MODIFIED:20200701T130955Z
UID:734-1595325600-1595365200@ilchibrainyoga-omiya.com
SUMMARY:深い呼吸していますか？丹田呼吸を体験しよう！
DESCRIPTION:エネルギーの中心、丹田を活性化することに\nポイントを置いています。丹田呼吸をすると\n体内に溜まった老廃物が流れやすくなり、\n緊張やイライラなどのストレスが軽減します。 \n～丹田呼吸ヨガ体験会～\n体験時間：10時～　14時～　19時～\n体験費:2000円＊税込　★要予約 \n体験予約いつでも受付中！\nイルチブレインヨガ大宮スタジオ\n048-644-5400
URL:https://ilchibrainyoga-omiya.com/event/0721/
LOCATION:イルチブレインヨガ大宮スタジオ\, 埼玉県さいたま市大宮区大門町2-109 大越ビル 5階\, 日本
ATTACH;FMTTYPE=image/png:https://ilchibrainyoga-omiya.com/wp-content/uploads/2020/07/1.png
END:VEVENT
BEGIN:VEVENT
DTSTART;TZID=Asia/Tokyo:20200718T100000
DTEND;TZID=Asia/Tokyo:20200718T210000
DTSTAMP:20260422T111008
CREATED:20200701T124602Z
LAST-MODIFIED:20200701T124602Z
UID:728-1595066400-1595106000@ilchibrainyoga-omiya.com
SUMMARY:深い呼吸していますか？丹田呼吸を体験しよう！
DESCRIPTION:エネルギーの中心、丹田を活性化することに\nポイントを置いています。丹田呼吸をすると\n体内に溜まった老廃物が流れやすくなり、\n緊張やイライラなどのストレスが軽減します。 \n～丹田呼吸ヨガ体験会～\n体験時間：10時～　\n体験費:2000円＊税込　★要予約 \n体験予約いつでも受付中！\nイルチブレインヨガ大宮スタジオ\n048-644-5400
URL:https://ilchibrainyoga-omiya.com/event/0718/
LOCATION:イルチブレインヨガ大宮スタジオ\, 埼玉県さいたま市大宮区大門町2-109 大越ビル 5階\, 日本
ATTACH;FMTTYPE=image/png:https://ilchibrainyoga-omiya.com/wp-content/uploads/2020/07/1.png
END:VEVENT
BEGIN:VEVENT
DTSTART;TZID=Asia/Tokyo:20200717T100000
DTEND;TZID=Asia/Tokyo:20200717T210000
DTSTAMP:20260422T111008
CREATED:20200701T124459Z
LAST-MODIFIED:20200701T124459Z
UID:726-1594980000-1595019600@ilchibrainyoga-omiya.com
SUMMARY:深い呼吸していますか？丹田呼吸を体験しよう！
DESCRIPTION:エネルギーの中心、丹田を活性化することに\nポイントを置いています。丹田呼吸をすると\n体内に溜まった老廃物が流れやすくなり、\n緊張やイライラなどのストレスが軽減します。 \n～丹田呼吸ヨガ体験会～\n体験時間：10時～　14時～　19時～\n体験費:2000円＊税込　★要予約 \n体験予約いつでも受付中！\nイルチブレインヨガ大宮スタジオ\n048-644-5400
URL:https://ilchibrainyoga-omiya.com/event/0717/
LOCATION:イルチブレインヨガ大宮スタジオ\, 埼玉県さいたま市大宮区大門町2-109 大越ビル 5階\, 日本
ATTACH;FMTTYPE=image/png:https://ilchibrainyoga-omiya.com/wp-content/uploads/2020/07/1.png
END:VEVENT
BEGIN:VEVENT
DTSTART;TZID=Asia/Tokyo:20200715T100000
DTEND;TZID=Asia/Tokyo:20200715T210000
DTSTAMP:20260422T111008
CREATED:20200701T124355Z
LAST-MODIFIED:20200701T124355Z
UID:724-1594807200-1594846800@ilchibrainyoga-omiya.com
SUMMARY:深い呼吸していますか？丹田呼吸を体験しよう！
DESCRIPTION:エネルギーの中心、丹田を活性化することに\nポイントを置いています。丹田呼吸をすると\n体内に溜まった老廃物が流れやすくなり、\n緊張やイライラなどのストレスが軽減します。 \n～丹田呼吸ヨガ体験会～\n体験時間：10時～　14時～　19時～\n体験費:2000円＊税込　★要予約 \n体験予約いつでも受付中！\nイルチブレインヨガ大宮スタジオ\n048-644-5400
URL:https://ilchibrainyoga-omiya.com/event/0715/
LOCATION:イルチブレインヨガ大宮スタジオ\, 埼玉県さいたま市大宮区大門町2-109 大越ビル 5階\, 日本
ATTACH;FMTTYPE=image/png:https://ilchibrainyoga-omiya.com/wp-content/uploads/2020/07/1.png
END:VEVENT
BEGIN:VEVENT
DTSTART;TZID=Asia/Tokyo:20200709T100000
DTEND;TZID=Asia/Tokyo:20200709T210000
DTSTAMP:20260422T111008
CREATED:20200701T124125Z
LAST-MODIFIED:20200701T124125Z
UID:722-1594288800-1594328400@ilchibrainyoga-omiya.com
SUMMARY:深い呼吸していますか？丹田呼吸を体験しよう！
DESCRIPTION:エネルギーの中心、丹田を活性化することに\nポイントを置いています。丹田呼吸をすると\n体内に溜まった老廃物が流れやすくなり、\n緊張やイライラなどのストレスが軽減します。 \n～丹田呼吸ヨガ体験会～\n体験時間：10時～　14時～　19時～\n体験費:2000円＊税込　★要予約 \n体験予約いつでも受付中！\nイルチブレインヨガ大宮スタジオ\n048-644-5400
URL:https://ilchibrainyoga-omiya.com/event/0709/
LOCATION:イルチブレインヨガ大宮スタジオ\, 埼玉県さいたま市大宮区大門町2-109 大越ビル 5階\, 日本
ATTACH;FMTTYPE=image/png:https://ilchibrainyoga-omiya.com/wp-content/uploads/2020/07/1.png
END:VEVENT
BEGIN:VEVENT
DTSTART;TZID=Asia/Tokyo:20200707T100000
DTEND;TZID=Asia/Tokyo:20200707T210000
DTSTAMP:20260422T111008
CREATED:20200701T124028Z
LAST-MODIFIED:20200701T124028Z
UID:720-1594116000-1594155600@ilchibrainyoga-omiya.com
SUMMARY:深い呼吸していますか？丹田呼吸を体験しよう！
DESCRIPTION:エネルギーの中心、丹田を活性化することに\nポイントを置いています。丹田呼吸をすると\n体内に溜まった老廃物が流れやすくなり、\n緊張やイライラなどのストレスが軽減します。 \n～丹田呼吸ヨガ体験会～\n体験時間：10時～　14時～　19時～\n体験費:2000円＊税込　★要予約 \n体験予約いつでも受付中！\nイルチブレインヨガ大宮スタジオ\n048-644-5400
URL:https://ilchibrainyoga-omiya.com/event/0707/
LOCATION:イルチブレインヨガ大宮スタジオ\, 埼玉県さいたま市大宮区大門町2-109 大越ビル 5階\, 日本
ATTACH;FMTTYPE=image/png:https://ilchibrainyoga-omiya.com/wp-content/uploads/2020/07/1.png
END:VEVENT
BEGIN:VEVENT
DTSTART;TZID=Asia/Tokyo:20200704T100000
DTEND;TZID=Asia/Tokyo:20200704T120000
DTSTAMP:20260422T111008
CREATED:20200701T123651Z
LAST-MODIFIED:20200701T123651Z
UID:717-1593856800-1593864000@ilchibrainyoga-omiya.com
SUMMARY:深い呼吸していますか？丹田呼吸を体験しよう！
DESCRIPTION:エネルギーの中心、丹田を活性化することに\nポイントを置いています。丹田呼吸をすると\n体内に溜まった老廃物が流れやすくなり、\n緊張やイライラなどのストレスが軽減します。 \n～丹田呼吸ヨガ体験会～\n体験費:2000円＊税込　★要予約 \n体験予約いつでも受付中！\nイルチブレインヨガ大宮スタジオ\n048-644-5400
URL:https://ilchibrainyoga-omiya.com/event/0704/
LOCATION:イルチブレインヨガ大宮スタジオ\, 埼玉県さいたま市大宮区大門町2-109 大越ビル 5階\, 日本
ATTACH;FMTTYPE=image/png:https://ilchibrainyoga-omiya.com/wp-content/uploads/2020/07/1.png
END:VEVENT
BEGIN:VEVENT
DTSTART;TZID=Asia/Tokyo:20200423T080000
DTEND;TZID=Asia/Tokyo:20200423T170000
DTSTAMP:20260422T111008
CREATED:20200422T232239Z
LAST-MODIFIED:20200422T232239Z
UID:693-1587628800-1587661200@ilchibrainyoga-omiya.com
SUMMARY:オンライン体験会やってます
DESCRIPTION:大宮スタジオでは \nお手持ちのスマホやパソコンで参加できる \nオンライン体験会を実施しています \n火曜日～日曜日 \n14：00～15：00 \n19：00～20：00 \nまずはお気軽にお電話ください
URL:https://ilchibrainyoga-omiya.com/event/%e3%82%aa%e3%83%b3%e3%83%a9%e3%82%a4%e3%83%b3%e4%bd%93%e9%a8%93%e4%bc%9a%e3%82%84%e3%81%a3%e3%81%a6%e3%81%be%e3%81%99/
END:VEVENT
BEGIN:VEVENT
DTSTART;TZID=Asia/Tokyo:20200407T080000
DTEND;TZID=Asia/Tokyo:20200407T170000
DTSTAMP:20260422T111008
CREATED:20200407T081739Z
LAST-MODIFIED:20200407T081835Z
UID:668-1586246400-1586278800@ilchibrainyoga-omiya.com
SUMMARY:オンライン体験会
DESCRIPTION:スタジオのレッスンがスマホ、パソコンから簡単にご参加できます \n日時　火曜日～日曜日　\n　　　14：00～　40分 \nご連絡おまちしています「
URL:https://ilchibrainyoga-omiya.com/event/%e3%82%aa%e3%83%b3%e3%83%a9%e3%82%a4%e3%83%b3%e4%bd%93%e9%a8%93%e4%bc%9a/
END:VEVENT
BEGIN:VEVENT
DTSTART;TZID=Asia/Tokyo:20191006T140000
DTEND;TZID=Asia/Tokyo:20191006T160000
DTSTAMP:20260422T111008
CREATED:20190718T051409Z
LAST-MODIFIED:20190718T051409Z
UID:569-1570370400-1570377600@ilchibrainyoga-omiya.com
SUMMARY:BHPで健康を自給自足（オーラ撮影）
DESCRIPTION:◇内容：\n・自分で自分のヒーリングポイントをさがします\n・前後でオーラ診断 \n◇期待できる効果：\n・感情のヒーリング\n・外に向いている意識を自分の内側にむける\n・肩こり、腰痛、冷え、目の疲れ、疲労回復\n・集中力アップ、ストレス解消、心にゆとりができる \n◇対象者：\nどなたでも \n◇開催日：\n10月6日（日曜日）14：00～16：00 \n◇会場名：\nイルチブレインヨガ大宮スタジオ \n◇会場住所：\nさいたま市大宮区大門町2-109大城ビル5階 \n◇参加費：\n1000円 \n◇問合せ電話：\n048-644-5400 \n◇トレーナー：\n寺西亨子 \n  \nイベントのご予約はこちら
URL:https://ilchibrainyoga-omiya.com/event/bhp%e3%81%a7%e5%81%a5%e5%ba%b7%e3%82%92%e8%87%aa%e7%b5%a6%e8%87%aa%e8%b6%b3%ef%bc%88%e3%82%aa%e3%83%bc%e3%83%a9%e6%92%ae%e5%bd%b1%ef%bc%89-2-2/
LOCATION:イルチブレインヨガ大宮スタジオ\, 埼玉県さいたま市大宮区大門町2-109 大越ビル 5階\, 日本
ATTACH;FMTTYPE=image/png:https://ilchibrainyoga-omiya.com/wp-content/uploads/2019/07/70d823283542dfa5044343717cda912f.png
END:VEVENT
BEGIN:VEVENT
DTSTART;TZID=Asia/Tokyo:20190907T140000
DTEND;TZID=Asia/Tokyo:20190907T160000
DTSTAMP:20260422T111008
CREATED:20190718T051311Z
LAST-MODIFIED:20190718T051311Z
UID:567-1567864800-1567872000@ilchibrainyoga-omiya.com
SUMMARY:BHPで健康を自給自足（オーラ撮影）
DESCRIPTION:◇内容：\n・自分で自分のヒーリングポイントをさがします\n・前後でオーラ診断 \n◇期待できる効果：\n・感情のヒーリング\n・外に向いている意識を自分の内側にむける\n・肩こり、腰痛、冷え、目の疲れ、疲労回復\n・集中力アップ、ストレス解消、心にゆとりができる \n◇対象者：\nどなたでも \n◇開催日：\n9月7日（土曜日）14：00～16：00 \n◇会場名：\nイルチブレインヨガ大宮スタジオ \n◇会場住所：\nさいたま市大宮区大門町2-109大城ビル5階 \n◇参加費：\n1000円 \n◇問合せ電話：\n048-644-5400 \n◇トレーナー：\n寺西亨子 \n  \nイベントのご予約はこちら
URL:https://ilchibrainyoga-omiya.com/event/bhp%e3%81%a7%e5%81%a5%e5%ba%b7%e3%82%92%e8%87%aa%e7%b5%a6%e8%87%aa%e8%b6%b3%ef%bc%88%e3%82%aa%e3%83%bc%e3%83%a9%e6%92%ae%e5%bd%b1%ef%bc%89-2/
LOCATION:イルチブレインヨガ大宮スタジオ\, 埼玉県さいたま市大宮区大門町2-109 大越ビル 5階\, 日本
ATTACH;FMTTYPE=image/png:https://ilchibrainyoga-omiya.com/wp-content/uploads/2019/07/70d823283542dfa5044343717cda912f.png
END:VEVENT
BEGIN:VEVENT
DTSTART;TZID=Asia/Tokyo:20190810T140000
DTEND;TZID=Asia/Tokyo:20190810T160000
DTSTAMP:20260422T111008
CREATED:20190718T050948Z
LAST-MODIFIED:20190718T050948Z
UID:563-1565445600-1565452800@ilchibrainyoga-omiya.com
SUMMARY:BHPで健康を自給自足（オーラ撮影）
DESCRIPTION:◇内容：\n・自分で自分のヒーリングポイントをさがします\n・前後でオーラ診断 \n◇期待できる効果：\n・感情のヒーリング\n・外に向いている意識を自分の内側にむける\n・肩こり、腰痛、冷え、目の疲れ、疲労回復\n・集中力アップ、ストレス解消、心にゆとりができる \n◇対象者：\nどなたでも \n◇開催日：\n8月10日（土曜日）14：00～16：00 \n◇会場名：\nイルチブレインヨガ大宮スタジオ \n◇会場住所：\nさいたま市大宮区大門町2-109大城ビル5階 \n◇参加費：\n1000円 \n◇問合せ電話：\n048-644-5400 \n◇トレーナー：\n寺西亨子 \n  \nイベントのご予約はこちら
URL:https://ilchibrainyoga-omiya.com/event/bhp%e3%81%a7%e5%81%a5%e5%ba%b7%e3%82%92%e8%87%aa%e7%b5%a6%e8%87%aa%e8%b6%b3%ef%bc%88%e3%82%aa%e3%83%bc%e3%83%a9%e6%92%ae%e5%bd%b1%ef%bc%89/
LOCATION:イルチブレインヨガ大宮スタジオ\, 埼玉県さいたま市大宮区大門町2-109 大越ビル 5階\, 日本
ATTACH;FMTTYPE=image/png:https://ilchibrainyoga-omiya.com/wp-content/uploads/2019/07/70d823283542dfa5044343717cda912f.png
END:VEVENT
BEGIN:VEVENT
DTSTART;TZID=Asia/Tokyo:20170811T080000
DTEND;TZID=Asia/Tokyo:20170811T170000
DTSTAMP:20260422T111008
CREATED:20170803T135617Z
LAST-MODIFIED:20171202T140925Z
UID:391-1502438400-1502470800@ilchibrainyoga-omiya.com
SUMMARY:腸デトックスyoga講座
DESCRIPTION:体温、代謝、免疫力アップ！アンチエイジング！腸内環境を整えて体質改善しましょう！ \n日  時：   8/8(火）10(木）17(木）　19:00~21:00 \n8/6(日）11(金)  12(土)　　14:00~16:00 \n参加費:    1000円　(通常3000円） \n内   容:   腸をほぐすデトックス体操、腸のセルフケアに最適なへそヒーリングの実習。 \nイベントのご予約はこちら
URL:https://ilchibrainyoga-omiya.com/event/%e8%85%b8%e3%83%87%e3%83%88%e3%83%83%e3%82%af%e3%82%b9yoga%e8%ac%9b%e5%ba%a7-2/
END:VEVENT
BEGIN:VEVENT
DTSTART;TZID=Asia/Tokyo:20170808T080000
DTEND;TZID=Asia/Tokyo:20170808T170000
DTSTAMP:20260422T111008
CREATED:20170803T135923Z
LAST-MODIFIED:20170803T135923Z
UID:393-1502179200-1502211600@ilchibrainyoga-omiya.com
SUMMARY:腸デトックスyoga 講座
DESCRIPTION:体温、代謝、免疫力アップ！アンチエイジング！腸内環境を整えて体質改善しましょう！ \n日  時：   8/8(火）10(木）17(木）　19:00~21:00 \n8/6(日）11(金)  12(土)　　14:00~16:00 \n参加費:    1000円　(通常3000円） \n内   容:   腸をほぐすデトックス体操、腸のセルフケアに最適なへそヒーリングの実習。
URL:https://ilchibrainyoga-omiya.com/event/%e8%85%b8%e3%83%87%e3%83%88%e3%83%83%e3%82%af%e3%82%b9yoga-%e8%ac%9b%e5%ba%a7/
END:VEVENT
BEGIN:VEVENT
DTSTART;TZID=Asia/Tokyo:20170803T080000
DTEND;TZID=Asia/Tokyo:20170803T170000
DTSTAMP:20260422T111008
CREATED:20170803T133831Z
LAST-MODIFIED:20170803T133831Z
UID:386-1501747200-1501779600@ilchibrainyoga-omiya.com
SUMMARY:腸デトックスyoga講座
DESCRIPTION:体温、代謝、免疫力アップ！アンチエイジング！腸内環境を整えて体質改善しましょう！ \n日  時：   8/8(火）10(木）17(木）　19:00~21:00 \n8/6(日）11(金)  12(土)　　14:00~16:00 \n参加費:    1000円　(通常3000円） \n内   容:   腸をほぐすデトックス体操、腸のセルフケアに最適なへそヒーリングの実習。
URL:https://ilchibrainyoga-omiya.com/event/%e8%85%b8%e3%83%87%e3%83%88%e3%83%83%e3%82%af%e3%82%b9yoga%e8%ac%9b%e5%ba%a7/
END:VEVENT
BEGIN:VEVENT
DTSTART;TZID=Asia/Tokyo:20150712T140000
DTEND;TZID=Asia/Tokyo:20150712T163000
DTSTAMP:20260422T111008
CREATED:20150702T120828Z
LAST-MODIFIED:20150702T120828Z
UID:261-1436709600-1436718600@ilchibrainyoga-omiya.com
SUMMARY:ドキュメンタリー映画「CHANGE」上映会
DESCRIPTION:数々の賞に輝いたドキュメンタリー映画「CHANGE」。映画鑑賞後、引き寄せ実践セミナー開催します。
URL:https://ilchibrainyoga-omiya.com/event/%e3%83%89%e3%82%ad%e3%83%a5%e3%83%a1%e3%83%b3%e3%82%bf%e3%83%aa%e3%83%bc%e6%98%a0%e7%94%bb%e3%80%8cchange%e3%80%8d%e4%b8%8a%e6%98%a0%e4%bc%9a-2/
LOCATION:イルチブレインヨガ大宮スタジオ\, 埼玉県さいたま市大宮区大門町2-109 大越ビル 5階\, 日本
END:VEVENT
BEGIN:VEVENT
DTSTART;TZID=Asia/Tokyo:20150630T100000
DTEND;TZID=Asia/Tokyo:20150630T120000
DTSTAMP:20260422T111008
CREATED:20150627T015618Z
LAST-MODIFIED:20150627T015618Z
UID:260-1435658400-1435665600@ilchibrainyoga-omiya.com
SUMMARY:ワンコイン！腸デトックスヨガ体験会
DESCRIPTION:日本テレビ『ぶらり途中下車の旅』出演記念イベントです。 \n一般クラス７０分（通常3000円）をワンコインでおためしいただけます！ \nこの機会にぜひイルチブレインヨガを体験してください。
URL:https://ilchibrainyoga-omiya.com/event/%e3%83%af%e3%83%b3%e3%82%b3%e3%82%a4%e3%83%b3%ef%bc%81%e8%85%b8%e3%83%87%e3%83%88%e3%83%83%e3%82%af%e3%82%b9%e3%83%a8%e3%82%ac%e4%bd%93%e9%a8%93%e4%bc%9a/
END:VEVENT
BEGIN:VEVENT
DTSTART;TZID=Asia/Tokyo:20150628T100000
DTEND;TZID=Asia/Tokyo:20150628T120000
DTSTAMP:20260422T111008
CREATED:20150627T015205Z
LAST-MODIFIED:20150627T015743Z
UID:259-1435485600-1435492800@ilchibrainyoga-omiya.com
SUMMARY:無料！腸デトックスヨガ体験会
DESCRIPTION:日本テレビ『ぶらり途中下車の旅』に出演させていただいた記念イベントです。 \n７０分の通常クラス（3000円）をなんと無料で体験いただけます！ \n前から気になっていたけれどという方、ぜひ、この機会におためしください。
URL:https://ilchibrainyoga-omiya.com/event/%e7%84%a1%e6%96%99%ef%bc%81%e8%85%b8%e3%83%87%e3%83%88%e3%83%83%e3%82%af%e3%82%b9%e3%83%a8%e3%82%ac%e4%bd%93%e9%a8%93%e4%bc%9a/
END:VEVENT
BEGIN:VEVENT
DTSTART;TZID=Asia/Tokyo:20150627T140000
DTEND;TZID=Asia/Tokyo:20150627T160000
DTSTAMP:20260422T111008
CREATED:20150613T054917Z
LAST-MODIFIED:20150613T115300Z
UID:252-1435413600-1435420800@ilchibrainyoga-omiya.com
SUMMARY:皿まわしエクササイズ体験会
DESCRIPTION:6月13日日本テレビ「ぶらり途中下車の旅」でなぎら健壱さんと一緒に行った健康エクササイズ、皿回しエクササイズの体験会を実施します。\n通常1000円のところ、今月中はワンコイン！500円で体験いただけます＾o＾
URL:https://ilchibrainyoga-omiya.com/event/%e7%9a%bf%e5%9b%9e%e3%81%97%ef%bd%b4%ef%bd%b8%ef%bd%bb%ef%bd%bb%ef%bd%b2%ef%bd%bd%ef%be%9e%e4%bd%93%e9%a8%93%e4%bc%9a-2/
LOCATION:イルチブレインヨガ大宮スタジオ\, 埼玉県さいたま市大宮区大門町2-109 大越ビル 5階\, 日本
END:VEVENT
END:VCALENDAR