BEGIN:VCALENDAR
VERSION:2.0
PRODID:-//イルチブレインヨガ大宮スタジオ - ECPv6.15.20//NONSGML v1.0//EN
CALSCALE:GREGORIAN
METHOD:PUBLISH
X-WR-CALNAME:イルチブレインヨガ大宮スタジオ
X-ORIGINAL-URL:https://ilchibrainyoga-omiya.com
X-WR-CALDESC:イルチブレインヨガ大宮スタジオ のイベント
REFRESH-INTERVAL;VALUE=DURATION:PT1H
X-Robots-Tag:noindex
X-PUBLISHED-TTL:PT1H
BEGIN:VTIMEZONE
TZID:Asia/Tokyo
BEGIN:STANDARD
TZOFFSETFROM:+0900
TZOFFSETTO:+0900
TZNAME:JST
DTSTART:20140101T000000
END:STANDARD
END:VTIMEZONE
BEGIN:VEVENT
DTSTART;TZID=Asia/Tokyo:20170811T080000
DTEND;TZID=Asia/Tokyo:20170811T170000
DTSTAMP:20260423T162309
CREATED:20170803T135617Z
LAST-MODIFIED:20171202T140925Z
UID:391-1502438400-1502470800@ilchibrainyoga-omiya.com
SUMMARY:腸デトックスyoga講座
DESCRIPTION:体温、代謝、免疫力アップ！アンチエイジング！腸内環境を整えて体質改善しましょう！ \n日  時：   8/8(火）10(木）17(木）　19:00~21:00 \n8/6(日）11(金)  12(土)　　14:00~16:00 \n参加費:    1000円　(通常3000円） \n内   容:   腸をほぐすデトックス体操、腸のセルフケアに最適なへそヒーリングの実習。 \nイベントのご予約はこちら
URL:https://ilchibrainyoga-omiya.com/event/%e8%85%b8%e3%83%87%e3%83%88%e3%83%83%e3%82%af%e3%82%b9yoga%e8%ac%9b%e5%ba%a7-2/
END:VEVENT
BEGIN:VEVENT
DTSTART;TZID=Asia/Tokyo:20170808T080000
DTEND;TZID=Asia/Tokyo:20170808T170000
DTSTAMP:20260423T162309
CREATED:20170803T135923Z
LAST-MODIFIED:20170803T135923Z
UID:393-1502179200-1502211600@ilchibrainyoga-omiya.com
SUMMARY:腸デトックスyoga 講座
DESCRIPTION:体温、代謝、免疫力アップ！アンチエイジング！腸内環境を整えて体質改善しましょう！ \n日  時：   8/8(火）10(木）17(木）　19:00~21:00 \n8/6(日）11(金)  12(土)　　14:00~16:00 \n参加費:    1000円　(通常3000円） \n内   容:   腸をほぐすデトックス体操、腸のセルフケアに最適なへそヒーリングの実習。
URL:https://ilchibrainyoga-omiya.com/event/%e8%85%b8%e3%83%87%e3%83%88%e3%83%83%e3%82%af%e3%82%b9yoga-%e8%ac%9b%e5%ba%a7/
END:VEVENT
BEGIN:VEVENT
DTSTART;TZID=Asia/Tokyo:20170803T080000
DTEND;TZID=Asia/Tokyo:20170803T170000
DTSTAMP:20260423T162309
CREATED:20170803T133831Z
LAST-MODIFIED:20170803T133831Z
UID:386-1501747200-1501779600@ilchibrainyoga-omiya.com
SUMMARY:腸デトックスyoga講座
DESCRIPTION:体温、代謝、免疫力アップ！アンチエイジング！腸内環境を整えて体質改善しましょう！ \n日  時：   8/8(火）10(木）17(木）　19:00~21:00 \n8/6(日）11(金)  12(土)　　14:00~16:00 \n参加費:    1000円　(通常3000円） \n内   容:   腸をほぐすデトックス体操、腸のセルフケアに最適なへそヒーリングの実習。
URL:https://ilchibrainyoga-omiya.com/event/%e8%85%b8%e3%83%87%e3%83%88%e3%83%83%e3%82%af%e3%82%b9yoga%e8%ac%9b%e5%ba%a7/
END:VEVENT
BEGIN:VEVENT
DTSTART;TZID=Asia/Tokyo:20150712T140000
DTEND;TZID=Asia/Tokyo:20150712T163000
DTSTAMP:20260423T162309
CREATED:20150702T120828Z
LAST-MODIFIED:20150702T120828Z
UID:261-1436709600-1436718600@ilchibrainyoga-omiya.com
SUMMARY:ドキュメンタリー映画「CHANGE」上映会
DESCRIPTION:数々の賞に輝いたドキュメンタリー映画「CHANGE」。映画鑑賞後、引き寄せ実践セミナー開催します。
URL:https://ilchibrainyoga-omiya.com/event/%e3%83%89%e3%82%ad%e3%83%a5%e3%83%a1%e3%83%b3%e3%82%bf%e3%83%aa%e3%83%bc%e6%98%a0%e7%94%bb%e3%80%8cchange%e3%80%8d%e4%b8%8a%e6%98%a0%e4%bc%9a-2/
LOCATION:イルチブレインヨガ大宮スタジオ\, 埼玉県さいたま市大宮区大門町2-109 大越ビル 5階\, 日本
END:VEVENT
BEGIN:VEVENT
DTSTART;TZID=Asia/Tokyo:20150630T100000
DTEND;TZID=Asia/Tokyo:20150630T120000
DTSTAMP:20260423T162309
CREATED:20150627T015618Z
LAST-MODIFIED:20150627T015618Z
UID:260-1435658400-1435665600@ilchibrainyoga-omiya.com
SUMMARY:ワンコイン！腸デトックスヨガ体験会
DESCRIPTION:日本テレビ『ぶらり途中下車の旅』出演記念イベントです。 \n一般クラス７０分（通常3000円）をワンコインでおためしいただけます！ \nこの機会にぜひイルチブレインヨガを体験してください。
URL:https://ilchibrainyoga-omiya.com/event/%e3%83%af%e3%83%b3%e3%82%b3%e3%82%a4%e3%83%b3%ef%bc%81%e8%85%b8%e3%83%87%e3%83%88%e3%83%83%e3%82%af%e3%82%b9%e3%83%a8%e3%82%ac%e4%bd%93%e9%a8%93%e4%bc%9a/
END:VEVENT
BEGIN:VEVENT
DTSTART;TZID=Asia/Tokyo:20150628T100000
DTEND;TZID=Asia/Tokyo:20150628T120000
DTSTAMP:20260423T162309
CREATED:20150627T015205Z
LAST-MODIFIED:20150627T015743Z
UID:259-1435485600-1435492800@ilchibrainyoga-omiya.com
SUMMARY:無料！腸デトックスヨガ体験会
DESCRIPTION:日本テレビ『ぶらり途中下車の旅』に出演させていただいた記念イベントです。 \n７０分の通常クラス（3000円）をなんと無料で体験いただけます！ \n前から気になっていたけれどという方、ぜひ、この機会におためしください。
URL:https://ilchibrainyoga-omiya.com/event/%e7%84%a1%e6%96%99%ef%bc%81%e8%85%b8%e3%83%87%e3%83%88%e3%83%83%e3%82%af%e3%82%b9%e3%83%a8%e3%82%ac%e4%bd%93%e9%a8%93%e4%bc%9a/
END:VEVENT
BEGIN:VEVENT
DTSTART;TZID=Asia/Tokyo:20150627T140000
DTEND;TZID=Asia/Tokyo:20150627T160000
DTSTAMP:20260423T162309
CREATED:20150613T054917Z
LAST-MODIFIED:20150613T115300Z
UID:252-1435413600-1435420800@ilchibrainyoga-omiya.com
SUMMARY:皿まわしエクササイズ体験会
DESCRIPTION:6月13日日本テレビ「ぶらり途中下車の旅」でなぎら健壱さんと一緒に行った健康エクササイズ、皿回しエクササイズの体験会を実施します。\n通常1000円のところ、今月中はワンコイン！500円で体験いただけます＾o＾
URL:https://ilchibrainyoga-omiya.com/event/%e7%9a%bf%e5%9b%9e%e3%81%97%ef%bd%b4%ef%bd%b8%ef%bd%bb%ef%bd%bb%ef%bd%b2%ef%bd%bd%ef%be%9e%e4%bd%93%e9%a8%93%e4%bc%9a-2/
LOCATION:イルチブレインヨガ大宮スタジオ\, 埼玉県さいたま市大宮区大門町2-109 大越ビル 5階\, 日本
END:VEVENT
BEGIN:VEVENT
DTSTART;TZID=Asia/Tokyo:20150626T140000
DTEND;TZID=Asia/Tokyo:20150626T160000
DTSTAMP:20260423T162309
CREATED:20150613T054057Z
LAST-MODIFIED:20150613T115318Z
UID:248-1435327200-1435334400@ilchibrainyoga-omiya.com
SUMMARY:皿まわしエクササイズ体験会
DESCRIPTION:6月13日日本テレビ「ぶらり途中下車の旅」でなぎら健壱さんと一緒に行った健康エクササイズ、皿回しエクササイズの体験会を実施します。\n通常1000円のところ、今月中はワンコイン！500円で体験いただけます＾o＾
URL:https://ilchibrainyoga-omiya.com/event/%e7%9a%bf%e5%9b%9e%e3%81%97%e3%82%a8%e3%82%af%e3%82%b5%e3%82%b5%e3%82%a4%e3%82%ba/
LOCATION:イルチブレインヨガ大宮スタジオ\, 埼玉県さいたま市大宮区大門町2-109 大越ビル 5階\, 日本
END:VEVENT
BEGIN:VEVENT
DTSTART;TZID=Asia/Tokyo:20150625T190000
DTEND;TZID=Asia/Tokyo:20150625T210000
DTSTAMP:20260423T162309
CREATED:20150613T054742Z
LAST-MODIFIED:20150613T115353Z
UID:251-1435258800-1435266000@ilchibrainyoga-omiya.com
SUMMARY:皿まわしエクササイズ体験会
DESCRIPTION:6月13日日本テレビ「ぶらり途中下車の旅」でなぎら健壱さんと一緒に行った健康エクササイズ、皿回しエクササイズの体験会を実施します。\n通常1000円のところ、今月中はワンコイン！500円で体験いただけます＾o＾
URL:https://ilchibrainyoga-omiya.com/event/%e7%9a%bf%e5%9b%9e%e3%81%97%ef%bd%b4%ef%bd%b8%ef%bd%bb%ef%bd%bb%ef%bd%b2%ef%bd%bd%ef%be%9e%e4%bd%93%e9%a8%93%e4%bc%9a/
LOCATION:イルチブレインヨガ大宮スタジオ\, 埼玉県さいたま市大宮区大門町2-109 大越ビル 5階\, 日本
END:VEVENT
BEGIN:VEVENT
DTSTART;TZID=Asia/Tokyo:20150623T100000
DTEND;TZID=Asia/Tokyo:20150623T120000
DTSTAMP:20260423T162309
CREATED:20150613T054519Z
LAST-MODIFIED:20150613T115414Z
UID:250-1435053600-1435060800@ilchibrainyoga-omiya.com
SUMMARY:皿まわしエクササイズ体験会
DESCRIPTION:6月13日日本テレビ「ぶらり途中下車の旅」でなぎら健壱さんと一緒に行った健康エクササイズ、皿回しエクササイズの体験会を実施します。\n通常1000円のところ、今月中はワンコイン！500円で体験いただけます＾o＾
URL:https://ilchibrainyoga-omiya.com/event/%e7%9a%bf%e5%9b%9e%e3%81%97%e3%82%a8%e3%82%af%e3%82%b5%e3%82%b5%e3%82%a4%e3%82%ba%e4%bd%93%e9%a8%93%e4%bc%9a-5/
LOCATION:イルチブレインヨガ大宮スタジオ\, 埼玉県さいたま市大宮区大門町2-109 大越ビル 5階\, 日本
END:VEVENT
BEGIN:VEVENT
DTSTART;TZID=Asia/Tokyo:20150621T140000
DTEND;TZID=Asia/Tokyo:20150621T163000
DTSTAMP:20260423T162309
CREATED:20150608T143736Z
LAST-MODIFIED:20150608T143736Z
UID:238-1434895200-1434904200@ilchibrainyoga-omiya.com
SUMMARY:ドキュメンタリー映画「CHANGE」上映会
DESCRIPTION:国際映画賞でも数々の賞に輝いたドキュメンタリー映画「CHANGE」の上映会＆引き寄せ脳を作るセミナーを開催します。\n夢をかなえたい方、ぜひお越しください＾＾
URL:https://ilchibrainyoga-omiya.com/event/%e3%83%89%e3%82%ad%e3%83%a5%e3%83%a1%e3%83%b3%e3%82%bf%e3%83%aa%e3%83%bc%e6%98%a0%e7%94%bb%e3%80%8cchange%e3%80%8d%e4%b8%8a%e6%98%a0%e4%bc%9a/
LOCATION:プラザノース\, 日本
END:VEVENT
BEGIN:VEVENT
DTSTART;TZID=Asia/Tokyo:20150620T140000
DTEND;TZID=Asia/Tokyo:20150620T160000
DTSTAMP:20260423T162309
CREATED:20150613T053740Z
LAST-MODIFIED:20150619T051950Z
UID:247-1434808800-1434816000@ilchibrainyoga-omiya.com
SUMMARY:皿まわしエクササイズ体験会
DESCRIPTION:6月13日日本テレビ「ぶらり途中下車の旅」でなぎら健壱さんと一緒に行った健康エクササイズ、皿回しエクササイズの体験会を実施します。\n通常1000円のところ、今月中はワンコイン！500円で体験いただけます＾o＾
URL:https://ilchibrainyoga-omiya.com/event/%e7%9a%bf%e5%9b%9e%e3%81%97%e3%82%a8%e3%82%af%e3%82%b5%e3%82%b5%e3%82%a4%e3%82%ba%e4%bd%93%e9%a8%93%e4%bc%9a-4/
LOCATION:イルチブレインヨガ大宮スタジオ\, 埼玉県さいたま市大宮区大門町2-109 大越ビル 5階\, 日本
END:VEVENT
BEGIN:VEVENT
DTSTART;TZID=Asia/Tokyo:20150620T140000
DTEND;TZID=Asia/Tokyo:20150620T160000
DTSTAMP:20260423T162309
CREATED:20150603T124541Z
LAST-MODIFIED:20150603T124541Z
UID:235-1434808800-1434816000@ilchibrainyoga-omiya.com
SUMMARY:腸デトックスヨガで引き寄せ体質になる！セミナー
DESCRIPTION:脳の健康は、腸の健康から！\n第二の脳と言われる腸を活性化して、目標を実現できる引き寄せ体質を作りませんか。
URL:https://ilchibrainyoga-omiya.com/event/%e8%85%b8%e3%83%87%e3%83%88%e3%83%83%e3%82%af%e3%82%b9%e3%83%a8%e3%82%ac%e3%81%a7%e5%bc%95%e3%81%8d%e5%af%84%e3%81%9b%e4%bd%93%e8%b3%aa%e3%81%ab%e3%81%aa%e3%82%8b%ef%bc%81%e3%82%bb%e3%83%9f%e3%83%8a-2/
LOCATION:イルチブレインヨガ大宮スタジオ\, 埼玉県さいたま市大宮区大門町2-109 大越ビル 5階\, 日本
END:VEVENT
BEGIN:VEVENT
DTSTART;TZID=Asia/Tokyo:20150618T190000
DTEND;TZID=Asia/Tokyo:20150618T210000
DTSTAMP:20260423T162309
CREATED:20150603T124632Z
LAST-MODIFIED:20150603T124632Z
UID:236-1434654000-1434661200@ilchibrainyoga-omiya.com
SUMMARY:腸デトックスヨガで引き寄せ体質になる！セミナー
DESCRIPTION:脳の健康は、腸の健康から！\n第二の脳と言われる腸を活性化して、目標を実現できる引き寄せ体質を作りませんか。
URL:https://ilchibrainyoga-omiya.com/event/%e8%85%b8%e3%83%87%e3%83%88%e3%83%83%e3%82%af%e3%82%b9%e3%83%a8%e3%82%ac%e3%81%a7%e5%bc%95%e3%81%8d%e5%af%84%e3%81%9b%e4%bd%93%e8%b3%aa%e3%81%ab%e3%81%aa%e3%82%8b%ef%bc%81%e3%82%bb%e3%83%9f%e3%83%8a-3/
LOCATION:イルチブレインヨガ大宮スタジオ\, 埼玉県さいたま市大宮区大門町2-109 大越ビル 5階\, 日本
END:VEVENT
BEGIN:VEVENT
DTSTART;TZID=Asia/Tokyo:20150617T190000
DTEND;TZID=Asia/Tokyo:20150617T210000
DTSTAMP:20260423T162309
CREATED:20150613T053502Z
LAST-MODIFIED:20150613T115459Z
UID:246-1434567600-1434574800@ilchibrainyoga-omiya.com
SUMMARY:皿まわしエクササイズ体験会
DESCRIPTION:6月13日日本テレビ「ぶらり途中下車の旅」でなぎら健壱さんと一緒に行った健康エクササイズ、皿回しエクササイズの体験会を実施します。\n通常1000円のところ、今月中はワンコイン！500円で体験いただけます＾o＾
URL:https://ilchibrainyoga-omiya.com/event/%e7%9a%bf%e5%9b%9e%e3%81%97%e3%82%a8%e3%82%af%e3%82%b5%e3%82%b5%e3%82%a4%e3%82%ba%e4%bd%93%e9%a8%93%e4%bc%9a-3/
LOCATION:イルチブレインヨガ大宮スタジオ\, 埼玉県さいたま市大宮区大門町2-109 大越ビル 5階\, 日本
END:VEVENT
BEGIN:VEVENT
DTSTART;TZID=Asia/Tokyo:20150616T140000
DTEND;TZID=Asia/Tokyo:20150616T160000
DTSTAMP:20260423T162309
CREATED:20150613T053416Z
LAST-MODIFIED:20150613T053416Z
UID:245-1434463200-1434470400@ilchibrainyoga-omiya.com
SUMMARY:皿回しエクササイズ体験会
DESCRIPTION:6月13日日本テレビ「ぶらり途中下車の旅」でなぎら健壱さんと一緒に行った健康エクササイズ、皿回しエクササイズの体験会を実施します。\n通常1000円のところ、今月中はワンコイン！500円で体験いただけます＾o＾
URL:https://ilchibrainyoga-omiya.com/event/%e7%9a%bf%e5%9b%9e%e3%81%97%e3%82%a8%e3%82%af%e3%82%b5%e3%82%b5%e3%82%a4%e3%82%ba%e4%bd%93%e9%a8%93%e4%bc%9a-2/
LOCATION:イルチブレインヨガ大宮スタジオ\, 埼玉県さいたま市大宮区大門町2-109 大越ビル 5階\, 日本
END:VEVENT
BEGIN:VEVENT
DTSTART;TZID=Asia/Tokyo:20150610T140000
DTEND;TZID=Asia/Tokyo:20150610T160000
DTSTAMP:20260423T162309
CREATED:20150603T081740Z
LAST-MODIFIED:20150603T124401Z
UID:233-1433944800-1433952000@ilchibrainyoga-omiya.com
SUMMARY:腸デトックスヨガで引き寄せ体質になる！セミナー開催
DESCRIPTION:脳の健康は腸の健康から！\n第二の脳と言われる腸を活性化して、目標を実現できる、引き寄せ体質を作りませんか。
URL:https://ilchibrainyoga-omiya.com/event/%e8%85%b8%e3%83%87%e3%83%88%e3%83%83%e3%82%af%e3%82%b9%e3%83%a8%e3%82%ac%e3%81%a7%e5%bc%95%e3%81%8d%e5%af%84%e3%81%9b%e4%bd%93%e8%b3%aa%e3%81%ab%e3%81%aa%e3%82%8b%ef%bc%81%e3%82%bb%e3%83%9f%e3%83%8a/
LOCATION:イルチブレインヨガ大宮スタジオ\, 埼玉県さいたま市大宮区大門町2-109 大越ビル 5階\, 日本
END:VEVENT
BEGIN:VEVENT
DTSTART;TZID=Asia/Tokyo:20150521T140000
DTEND;TZID=Asia/Tokyo:20150521T160000
DTSTAMP:20260423T162309
CREATED:20150504T051537Z
LAST-MODIFIED:20150504T051537Z
UID:218-1432216800-1432224000@ilchibrainyoga-omiya.com
SUMMARY:夏目前！腸デトックスヨガWS
DESCRIPTION:気温がぐんぐん上がってきて、夏はもうすぐそこですね。\n腸デトックスをして、夏前に体・心・そして脳もすっきりさせませんか。
URL:https://ilchibrainyoga-omiya.com/event/%e5%a4%8f%e7%9b%ae%e5%89%8d%ef%bc%81%e8%85%b8%e3%83%87%e3%83%88%e3%83%83%e3%82%af%e3%82%b9%e3%83%a8%e3%82%acws/
LOCATION:プラザノース\, 日本
END:VEVENT
BEGIN:VEVENT
DTSTART;TZID=Asia/Tokyo:20150424T121000
DTEND;TZID=Asia/Tokyo:20150424T123000
DTSTAMP:20260423T162309
CREATED:20150409T121717Z
LAST-MODIFIED:20150409T121717Z
UID:211-1429877400-1429878600@ilchibrainyoga-omiya.com
SUMMARY:お昼寝もできる！ランチタイムヨガ
DESCRIPTION:毎週　水曜日　金曜日\n １２：１０～１２：３０\n 「ランチタイム」ヨガを開催します！ \n忙しいけれど、カラダを動かしたい方\nリラックスして、仕事を集中してやりたい方\nイルチブレインヨガで\n ランチタイムを有効活用しませんか？ \nヨガが終わったあとは、自由にリフレッシュ！\nお昼寝もできますし、お弁当持参もOK \n料金は１カ月おためし　１０，０００円 \nトレーニング４回\n 　　　　＋\nヒーリング４回（１回２０分　通常３，０００円） \nとてもお得なプランです。 \n限定１０名様
URL:https://ilchibrainyoga-omiya.com/event/%e3%81%8a%e6%98%bc%e5%af%9d%e3%82%82%e3%81%a7%e3%81%8d%e3%82%8b%ef%bc%81%e3%83%a9%e3%83%b3%e3%83%81%e3%82%bf%e3%82%a4%e3%83%a0%e3%83%a8%e3%82%ac-5/
LOCATION:イルチブレインヨガ大宮スタジオ\, 埼玉県さいたま市大宮区大門町2-109 大越ビル 5階\, 日本
END:VEVENT
BEGIN:VEVENT
DTSTART;TZID=Asia/Tokyo:20150422T121000
DTEND;TZID=Asia/Tokyo:20150422T123000
DTSTAMP:20260423T162309
CREATED:20150409T121545Z
LAST-MODIFIED:20150409T121545Z
UID:210-1429704600-1429705800@ilchibrainyoga-omiya.com
SUMMARY:お昼寝もできる！ランチタイムヨガ
DESCRIPTION:毎週　水曜日　金曜日\n １２：１０～１２：３０\n 「ランチタイム」ヨガを開催します！ \n忙しいけれど、カラダを動かしたい方\nリラックスして、仕事を集中してやりたい方\nイルチブレインヨガで\n ランチタイムを有効活用しませんか？ \nヨガが終わったあとは、自由にリフレッシュ！\nお昼寝もできますし、お弁当持参もOK \n料金は１カ月おためし　１０，０００円 \nトレーニング４回\n 　　　　＋\nヒーリング４回（１回２０分　通常３，０００円） \nとてもお得なプランです。 \n限定１０名様
URL:https://ilchibrainyoga-omiya.com/event/%e3%81%8a%e6%98%bc%e5%af%9d%e3%82%82%e3%81%a7%e3%81%8d%e3%82%8b%ef%bc%81%e3%83%a9%e3%83%b3%e3%83%81%e3%82%bf%e3%82%a4%e3%83%a0%e3%83%a8%e3%82%ac-4/
LOCATION:イルチブレインヨガ大宮スタジオ\, 埼玉県さいたま市大宮区大門町2-109 大越ビル 5階\, 日本
END:VEVENT
BEGIN:VEVENT
DTSTART;TZID=Asia/Tokyo:20150417T121000
DTEND;TZID=Asia/Tokyo:20150417T123000
DTSTAMP:20260423T162309
CREATED:20150409T121410Z
LAST-MODIFIED:20150409T121410Z
UID:209-1429272600-1429273800@ilchibrainyoga-omiya.com
SUMMARY:お昼寝もできる！ランチタイムヨガ
DESCRIPTION:毎週　水曜日　金曜日\n １２：１０～１２：３０\n 「ランチタイム」ヨガを開催します！ \n忙しいけれど、カラダを動かしたい方\nリラックスして、仕事を集中してやりたい方\nイルチブレインヨガで\n ランチタイムを有効活用しませんか？ \nヨガが終わったあとは、自由にリフレッシュ！\nお昼寝もできますし、お弁当持参もOK \n料金は１カ月おためし　１０，０００円 \nトレーニング４回\n 　　　　＋\nヒーリング４回（１回２０分　通常３，０００円） \nとてもお得なプランです。 \n限定１０名様
URL:https://ilchibrainyoga-omiya.com/event/%e3%81%8a%e6%98%bc%e5%af%9d%e3%82%82%e3%81%a7%e3%81%8d%e3%82%8b%ef%bc%81%e3%83%a9%e3%83%b3%e3%83%81%e3%82%bf%e3%82%a4%e3%83%a0%e3%83%a8%e3%82%ac-3/
LOCATION:イルチブレインヨガ大宮スタジオ\, 埼玉県さいたま市大宮区大門町2-109 大越ビル 5階\, 日本
END:VEVENT
BEGIN:VEVENT
DTSTART;TZID=Asia/Tokyo:20150415T121000
DTEND;TZID=Asia/Tokyo:20150415T123000
DTSTAMP:20260423T162309
CREATED:20150409T121303Z
LAST-MODIFIED:20150409T121303Z
UID:208-1429099800-1429101000@ilchibrainyoga-omiya.com
SUMMARY:お昼寝もできる！ランチタイムヨガ
DESCRIPTION:毎週　水曜日　金曜日\n １２：１０～１２：３０\n 「ランチタイム」ヨガを開催します！ \n忙しいけれど、カラダを動かしたい方\nリラックスして、仕事を集中してやりたい方\nイルチブレインヨガで\n ランチタイムを有効活用しませんか？ \nヨガが終わったあとは、自由にリフレッシュ！\nお昼寝もできますし、お弁当持参もOK \n料金は１カ月おためし　１０，０００円 \nトレーニング４回\n 　　　　＋\nヒーリング４回（１回２０分　通常３，０００円） \nとてもお得なプランです。 \n限定１０名様
URL:https://ilchibrainyoga-omiya.com/event/%e3%81%8a%e6%98%bc%e5%af%9d%e3%82%82%e3%81%a7%e3%81%8d%e3%82%8b%ef%bc%81%e3%83%a9%e3%83%b3%e3%83%81%e3%82%bf%e3%82%a4%e3%83%a0%e3%83%a8%e3%82%ac-2/
LOCATION:イルチブレインヨガ大宮スタジオ\, 埼玉県さいたま市大宮区大門町2-109 大越ビル 5階\, 日本
END:VEVENT
BEGIN:VEVENT
DTSTART;TZID=Asia/Tokyo:20150410T121000
DTEND;TZID=Asia/Tokyo:20150410T123000
DTSTAMP:20260423T162309
CREATED:20150409T121005Z
LAST-MODIFIED:20150409T121122Z
UID:206-1428667800-1428669000@ilchibrainyoga-omiya.com
SUMMARY:お昼寝もできる！ランチタイムヨガ
DESCRIPTION:毎週　水曜日　金曜日\n １２：１０～１２：３０\n 「ランチタイム」ヨガを開催します！ \n忙しいけれど、カラダを動かしたい方\nリラックスして、仕事を集中してやりたい方\nイルチブレインヨガで\n ランチタイムを有効活用しませんか？ \nヨガが終わったあとは、自由にリフレッシュ！\nお昼寝もできますし、お弁当持参もOK \n料金は１カ月おためし　１０，０００円 \nトレーニング４回\n 　　　　＋\nヒーリング４回（１回２０分　通常３，０００円） \nとてもお得なプランです。 \n限定１０名様
URL:https://ilchibrainyoga-omiya.com/event/%e3%81%8a%e6%98%bc%e5%af%9d%e3%82%82%e3%81%a7%e3%81%8d%e3%82%8b%ef%bc%81%e3%83%a9%e3%83%b3%e3%83%81%e3%82%bf%e3%82%a4%e3%83%a0%e3%83%a8%e3%82%ac/
LOCATION:イルチブレインヨガ大宮スタジオ\, 埼玉県さいたま市大宮区大門町2-109 大越ビル 5階\, 日本
END:VEVENT
END:VCALENDAR